BEGIN:VCALENDAR
VERSION:2.0
PRODID:-//Master Calendar - ECPv6.8.1//NONSGML v1.0//EN
CALSCALE:GREGORIAN
METHOD:PUBLISH
X-ORIGINAL-URL:https://focmastercalendar.com
X-WR-CALDESC:Events for Master Calendar
REFRESH-INTERVAL;VALUE=DURATION:PT1H
X-Robots-Tag:noindex
X-PUBLISHED-TTL:PT1H
BEGIN:VTIMEZONE
TZID:America/Kentucky/Monticello
BEGIN:DAYLIGHT
TZOFFSETFROM:-0500
TZOFFSETTO:-0400
TZNAME:EDT
DTSTART:20220313T070000
END:DAYLIGHT
BEGIN:STANDARD
TZOFFSETFROM:-0400
TZOFFSETTO:-0500
TZNAME:EST
DTSTART:20221106T060000
END:STANDARD
BEGIN:DAYLIGHT
TZOFFSETFROM:-0500
TZOFFSETTO:-0400
TZNAME:EDT
DTSTART:20230312T070000
END:DAYLIGHT
BEGIN:STANDARD
TZOFFSETFROM:-0400
TZOFFSETTO:-0500
TZNAME:EST
DTSTART:20231105T060000
END:STANDARD
TZID:America/New_York
BEGIN:DAYLIGHT
TZOFFSETFROM:-0500
TZOFFSETTO:-0400
TZNAME:EDT
DTSTART:20220313T070000
END:DAYLIGHT
BEGIN:STANDARD
TZOFFSETFROM:-0400
TZOFFSETTO:-0500
TZNAME:EST
DTSTART:20221106T060000
END:STANDARD
BEGIN:DAYLIGHT
TZOFFSETFROM:-0500
TZOFFSETTO:-0400
TZNAME:EDT
DTSTART:20230312T070000
END:DAYLIGHT
BEGIN:STANDARD
TZOFFSETFROM:-0400
TZOFFSETTO:-0500
TZNAME:EST
DTSTART:20231105T060000
END:STANDARD
END:VTIMEZONE
BEGIN:VEVENT
DTSTART;TZID=America/Kentucky/Monticello:20230413T123000
DTEND;TZID=America/Kentucky/Monticello:20230413T133000
DTSTAMP:20260424T080435
CREATED:20230327T204826Z
LAST-MODIFIED:20230327T204826Z
UID:2534-1681389000-1681392600@focmastercalendar.com
SUMMARY:Bible Study
DESCRIPTION:“Living out God’s Story” – hosted by Jami Cervantes & River Foundation \n4 week Study –  attend one or all…. each week is independent \nSt. Asaph Meeting Room \n3 time options:\n8:45-9:30am\n11:30-12:30pm*\n12:30-1:30pm
URL:https://focmastercalendar.com/event/bible-study-6/
LOCATION:St. Asaph Meeting Space\, 207 West Main Street\, Stanford\, KY\, 40484\, United States
CATEGORIES:St. Asaph Meeting Space
ORGANIZER;CN="Julie Cox":MAILTO:julie@wildernessroadguest.com
END:VEVENT
BEGIN:VEVENT
DTSTART;TZID=America/Kentucky/Monticello:20230413T113000
DTEND;TZID=America/Kentucky/Monticello:20230413T123000
DTSTAMP:20260424T080435
CREATED:20230327T204738Z
LAST-MODIFIED:20230327T204738Z
UID:2531-1681385400-1681389000@focmastercalendar.com
SUMMARY:Bible Study
DESCRIPTION:“Living out God’s Story” – hosted by Jami Cervantes & River Foundation \n4 week Study –  attend one or all…. each week is independent \nSt. Asaph Meeting Room \n3 time options:\n8:45-9:30am\n11:30-12:30pm*\n12:30-1:30pm
URL:https://focmastercalendar.com/event/bible-study-5/
LOCATION:St. Asaph Meeting Space\, 207 West Main Street\, Stanford\, KY\, 40484\, United States
CATEGORIES:St. Asaph Meeting Space
ORGANIZER;CN="Julie Cox":MAILTO:julie@wildernessroadguest.com
END:VEVENT
BEGIN:VEVENT
DTSTART;TZID=America/Kentucky/Monticello:20230413T084500
DTEND;TZID=America/Kentucky/Monticello:20230413T093000
DTSTAMP:20260424T080435
CREATED:20230327T204646Z
LAST-MODIFIED:20230327T204646Z
UID:2528-1681375500-1681378200@focmastercalendar.com
SUMMARY:Bible Study
DESCRIPTION:“Living out God’s Story” – hosted by Jami Cervantes & River Foundation \n4 week Study –  attend one or all…. each week is independent \nSt. Asaph Meeting Room \n3 time options:\n8:45-9:30am\n11:30-12:30pm*\n12:30-1:30pm
URL:https://focmastercalendar.com/event/bible-study-4/
LOCATION:St. Asaph Meeting Space\, 207 West Main Street\, Stanford\, KY\, 40484\, United States
CATEGORIES:St. Asaph Meeting Space
ORGANIZER;CN="Julie Cox":MAILTO:julie@wildernessroadguest.com
END:VEVENT
BEGIN:VEVENT
DTSTART;TZID=America/Kentucky/Monticello:20230405T123000
DTEND;TZID=America/Kentucky/Monticello:20230405T133000
DTSTAMP:20260424T080435
CREATED:20230327T204532Z
LAST-MODIFIED:20230327T204532Z
UID:2527-1680697800-1680701400@focmastercalendar.com
SUMMARY:Bible Study
DESCRIPTION:“Living out God’s Story” – hosted by Jami Cervantes & River Foundation \n4 week Study –  attend one or all…. each week is independent \nSt. Asaph Meeting Room \n3 time options:\n8:45-9:30am\n11:30-12:30pm*\n12:30-1:30pm
URL:https://focmastercalendar.com/event/bible-study-3/
LOCATION:St. Asaph Meeting Space\, 207 West Main Street\, Stanford\, KY\, 40484\, United States
CATEGORIES:St. Asaph Meeting Space
ORGANIZER;CN="Julie Cox":MAILTO:julie@wildernessroadguest.com
END:VEVENT
BEGIN:VEVENT
DTSTART;TZID=America/Kentucky/Monticello:20230405T113000
DTEND;TZID=America/Kentucky/Monticello:20230405T123000
DTSTAMP:20260424T080435
CREATED:20230327T204440Z
LAST-MODIFIED:20230327T204440Z
UID:2526-1680694200-1680697800@focmastercalendar.com
SUMMARY:Bible Study
DESCRIPTION:“Living out God’s Story” – hosted by Jami Cervantes & River Foundation \n4 week Study –  attend one or all…. each week is independent \nSt. Asaph Meeting Room \n3 time options:\n8:45-9:30am\n11:30-12:30pm*\n12:30-1:30pm
URL:https://focmastercalendar.com/event/bible-study-2/
LOCATION:St. Asaph Meeting Space\, 207 West Main Street\, Stanford\, KY\, 40484\, United States
CATEGORIES:St. Asaph Meeting Space
ORGANIZER;CN="Julie Cox":MAILTO:julie@wildernessroadguest.com
END:VEVENT
BEGIN:VEVENT
DTSTART;TZID=America/Kentucky/Monticello:20230405T084500
DTEND;TZID=America/Kentucky/Monticello:20230405T093000
DTSTAMP:20260424T080435
CREATED:20230327T204352Z
LAST-MODIFIED:20230327T204352Z
UID:2525-1680684300-1680687000@focmastercalendar.com
SUMMARY:Bible Study
DESCRIPTION:“Living out God’s Story” – hosted by Jami Cervantes & River Foundation \n4 week Study –  attend one or all…. each week is independent \nSt. Asaph Meeting Room \n3 time options:\n8:45-9:30am\n11:30-12:30pm*\n12:30-1:30pm
URL:https://focmastercalendar.com/event/bible-study/
LOCATION:St. Asaph Meeting Space\, 207 West Main Street\, Stanford\, KY\, 40484\, United States
CATEGORIES:St. Asaph Meeting Space
ORGANIZER;CN="Julie Cox":MAILTO:julie@wildernessroadguest.com
END:VEVENT
BEGIN:VEVENT
DTSTART;VALUE=DATE:20230320
DTEND;VALUE=DATE:20230323
DTSTAMP:20260424T080435
CREATED:20220829T183819Z
LAST-MODIFIED:20220829T183819Z
UID:2211-1679270400-1679529599@focmastercalendar.com
SUMMARY:BOARD MEETINGS
DESCRIPTION:Details Forthcoming
URL:https://focmastercalendar.com/event/board-meetings-11/
LOCATION:The Ballroom\, 208 North Depot Street\, Stanford\, KY\, 40484\, United States
CATEGORIES:Ballroom,Cerulean Dining Room,Cerulean Dining Room,HC Boardroom,Lodging,St. Asaph Meeting Space,Terrace
ORGANIZER;CN="Julie Cox":MAILTO:julie@wildernessroadguest.com
END:VEVENT
BEGIN:VEVENT
DTSTART;TZID=America/Kentucky/Monticello:20230314T133000
DTEND;TZID=America/Kentucky/Monticello:20230314T150000
DTSTAMP:20260424T080435
CREATED:20230228T140808Z
LAST-MODIFIED:20230228T140808Z
UID:2498-1678800600-1678806000@focmastercalendar.com
SUMMARY:Marketing Photo Shoot
DESCRIPTION:Photo shoot in St. Asaph Room by the Marketing team
URL:https://focmastercalendar.com/event/marketing-photo-shoot/
LOCATION:KY
CATEGORIES:St. Asaph Meeting Space
END:VEVENT
BEGIN:VEVENT
DTSTART;TZID=America/Kentucky/Monticello:20230313T180000
DTEND;TZID=America/Kentucky/Monticello:20230313T193000
DTSTAMP:20260424T080435
CREATED:20230213T173607Z
LAST-MODIFIED:20230213T174009Z
UID:2489-1678730400-1678735800@focmastercalendar.com
SUMMARY:Creative Writing Class w/ Beth Dotson Brown
DESCRIPTION:Creative Writing Class held in St. Asaph Room \n3 weeks on Monday night –  6-7:30pm \nLed by Beth Dotson Brown \nTicketed event \n  \nhttps://kentuckysoapsandsuch.com/collections/events/products/introduction-to-creative-writing \n 
URL:https://focmastercalendar.com/event/creative-writing-class-w-beth-dotson-brown-2023-03-13/
LOCATION:St. Asaph Meeting Space\, 207 West Main Street\, Stanford\, KY\, 40484\, United States
CATEGORIES:St. Asaph Meeting Space
ORGANIZER;CN="Julie Cox":MAILTO:julie@wildernessroadguest.com
END:VEVENT
BEGIN:VEVENT
DTSTART;TZID=America/Kentucky/Monticello:20230306T180000
DTEND;TZID=America/Kentucky/Monticello:20230306T193000
DTSTAMP:20260424T080435
CREATED:20230213T173607Z
LAST-MODIFIED:20230213T174008Z
UID:2488-1678125600-1678131000@focmastercalendar.com
SUMMARY:Creative Writing Class w/ Beth Dotson Brown
DESCRIPTION:Creative Writing Class held in St. Asaph Room \n3 weeks on Monday night –  6-7:30pm \nLed by Beth Dotson Brown \nTicketed event \n  \nhttps://kentuckysoapsandsuch.com/collections/events/products/introduction-to-creative-writing \n 
URL:https://focmastercalendar.com/event/creative-writing-class-w-beth-dotson-brown-2023-03-06/
LOCATION:St. Asaph Meeting Space\, 207 West Main Street\, Stanford\, KY\, 40484\, United States
CATEGORIES:St. Asaph Meeting Space
ORGANIZER;CN="Julie Cox":MAILTO:julie@wildernessroadguest.com
END:VEVENT
BEGIN:VEVENT
DTSTART;TZID=America/Kentucky/Monticello:20230301T103000
DTEND;TZID=America/Kentucky/Monticello:20230301T130000
DTSTAMP:20260424T080435
CREATED:20230202T172115Z
LAST-MODIFIED:20230202T172115Z
UID:2447-1677666600-1677675600@focmastercalendar.com
SUMMARY:Book Club
DESCRIPTION:Janet Ashby Book Club hosting their meeting in St. Asaph Room \n10:30 am- Noon \nThen lunch at Bluebird –  6 people \nAngela Correll will host them.
URL:https://focmastercalendar.com/event/book-club/
LOCATION:St. Asaph Meeting Space\, 207 West Main Street\, Stanford\, KY\, 40484\, United States
CATEGORIES:Bluebird,St. Asaph Meeting Space
ORGANIZER;CN="Julie Cox":MAILTO:julie@wildernessroadguest.com
END:VEVENT
BEGIN:VEVENT
DTSTART;TZID=America/Kentucky/Monticello:20230227T180000
DTEND;TZID=America/Kentucky/Monticello:20230227T193000
DTSTAMP:20260424T080435
CREATED:20230213T173607Z
LAST-MODIFIED:20230213T174008Z
UID:2487-1677520800-1677526200@focmastercalendar.com
SUMMARY:Creative Writing Class w/ Beth Dotson Brown
DESCRIPTION:Creative Writing Class held in St. Asaph Room \n3 weeks on Monday night –  6-7:30pm \nLed by Beth Dotson Brown \nTicketed event \n  \nhttps://kentuckysoapsandsuch.com/collections/events/products/introduction-to-creative-writing \n 
URL:https://focmastercalendar.com/event/creative-writing-class-w-beth-dotson-brown/
LOCATION:St. Asaph Meeting Space\, 207 West Main Street\, Stanford\, KY\, 40484\, United States
CATEGORIES:St. Asaph Meeting Space
ORGANIZER;CN="Julie Cox":MAILTO:julie@wildernessroadguest.com
END:VEVENT
BEGIN:VEVENT
DTSTART;VALUE=DATE:20230222
DTEND;VALUE=DATE:20230227
DTSTAMP:20260424T080435
CREATED:20220526T141414Z
LAST-MODIFIED:20230123T215555Z
UID:1766-1677024000-1677455999@focmastercalendar.com
SUMMARY:Winn Collier & the Genesis Project
DESCRIPTION:Winn Collier brings a group of writers to connect\, write and share \nFood – they will be eating on their own in Bluebird – each paying for their own \nMeeting space in St. Asaph \nLodging in Boone\,  Shelby & Logan \n10 people
URL:https://focmastercalendar.com/event/the-genesis-project-3/
LOCATION:St. Asaph Meeting Space\, 207 West Main Street\, Stanford\, KY\, 40484\, United States
CATEGORIES:Bluebird,Lodging,St. Asaph Meeting Space
END:VEVENT
BEGIN:VEVENT
DTSTART;TZID=America/Kentucky/Monticello:20230217T150000
DTEND;TZID=America/Kentucky/Monticello:20230218T120000
DTSTAMP:20260424T080435
CREATED:20230113T183122Z
LAST-MODIFIED:20230206T231250Z
UID:2400-1676646000-1676721600@focmastercalendar.com
SUMMARY:JOG - Chris Davis
DESCRIPTION:Chris Davis is hosting a JOG -9 people \nFriday- 5 pm through Saturday 1:00 pm \nSt. Asaph for sessions. \nDinner in Bluebird at 5:30 (Pre-order) \nBreakfast (Pre-orders) in Bluebird at 7:30 am \nBox lunches on Saturday by Cerulean – deliver to Ballroom at 1:00 pm \nContact:  Chris Davis 417-234-4202
URL:https://focmastercalendar.com/event/jog-4/
LOCATION:St. Asaph Meeting Space\, 207 West Main Street\, Stanford\, KY\, 40484\, United States
CATEGORIES:Bluebird,Cerulean Dining Room,Lodging,St. Asaph Meeting Space
ORGANIZER;CN="Julie Cox":MAILTO:julie@wildernessroadguest.com
END:VEVENT
BEGIN:VEVENT
DTSTART;VALUE=DATE:20230215
DTEND;VALUE=DATE:20230217
DTSTAMP:20260424T080435
CREATED:20230118T205103Z
LAST-MODIFIED:20230127T205436Z
UID:2404-1676419200-1676591999@focmastercalendar.com
SUMMARY:Women's JOG- Jami Cervantes
DESCRIPTION:Ladies JOG for Family of Companies Women \nhosted by Jami Cervantes \nStarts at 3:00 pm on Wed –  Overnight and ends at Noon on Thurs.
URL:https://focmastercalendar.com/event/possible-jog-jami-cervantes/
LOCATION:St. Asaph Meeting Space\, 207 West Main Street\, Stanford\, KY\, 40484\, United States
CATEGORIES:Cerulean Dining Room,Lodging,St. Asaph Meeting Space
ORGANIZER;CN="Julie Cox":MAILTO:julie@wildernessroadguest.com
END:VEVENT
BEGIN:VEVENT
DTSTART;VALUE=DATE:20230209
DTEND;VALUE=DATE:20230212
DTSTAMP:20260424T080435
CREATED:20221205T181228Z
LAST-MODIFIED:20230208T143131Z
UID:2326-1675900800-1676159999@focmastercalendar.com
SUMMARY:Taylor Made Farms Operations Group
DESCRIPTION:Thur 9 am- Meetings in St Asaph – –  lunch in bluebird – dinner in Mama D’s \nFriday – 9 am – Meetings in St. Asaph – bkfst on their own – lunch in St. Asaph(provided by Cerulean) – dinner at bluebird \nSaturday –  they are on their own \n8 hotel rooms reserved \n22 people in total \nMona Ostendorf – contact – 859-421-2685 \nsummary of visit  taylor made visit plan 2023
URL:https://focmastercalendar.com/event/taylor-made-farms-operations-group/
LOCATION:St. Asaph Meeting Space\, 207 West Main Street\, Stanford\, KY\, 40484\, United States
CATEGORIES:Bluebird,Cerulean Dining Room,Lodging,St. Asaph Meeting Space
ORGANIZER;CN="Julie Cox":MAILTO:julie@wildernessroadguest.com
END:VEVENT
BEGIN:VEVENT
DTSTART;VALUE=DATE:20230207
DTEND;VALUE=DATE:20230209
DTSTAMP:20260424T080435
CREATED:20221211T203958Z
LAST-MODIFIED:20221215T160500Z
UID:2340-1675728000-1675900799@focmastercalendar.com
SUMMARY:Culture Orientation
DESCRIPTION:Culture Orientation Training – in St. Asaph Meeting Room \n\nAsaph Meeting room\, Cerulean for meals\nBlock all rooms and one cottage for Brett and Kara if possible.\nBreakfast\, lunch\, and dinner on day 1\nBreakfast and lunch on day 2\n\nKara Bastin – contact \nStarts at 8 am –  ends on second day around 2 pm
URL:https://focmastercalendar.com/event/culture-orientation-4/
LOCATION:St. Asaph Meeting Space\, 207 West Main Street\, Stanford\, KY\, 40484\, United States
CATEGORIES:Cerulean Dining Room,Mama D's,St. Asaph Meeting Space
ORGANIZER;CN="Julie Cox":MAILTO:julie@wildernessroadguest.com
END:VEVENT
BEGIN:VEVENT
DTSTART;TZID=America/Kentucky/Monticello:20230206T140000
DTEND;TZID=America/Kentucky/Monticello:20230206T170000
DTSTAMP:20260424T080435
CREATED:20230206T135434Z
LAST-MODIFIED:20230206T135434Z
UID:2450-1675692000-1675702800@focmastercalendar.com
SUMMARY:Esther's Team Meeting
DESCRIPTION:Meeting in St. Asaph \nEsther’s Team \nSuzanne Short is contact
URL:https://focmastercalendar.com/event/esthers-team-meeting/
LOCATION:St. Asaph Meeting Space\, 207 West Main Street\, Stanford\, KY\, 40484\, United States
CATEGORIES:St. Asaph Meeting Space
ORGANIZER;CN="Julie Cox":MAILTO:julie@wildernessroadguest.com
END:VEVENT
BEGIN:VEVENT
DTSTART;TZID=America/Kentucky/Monticello:20230202T100000
DTEND;TZID=America/Kentucky/Monticello:20230202T110000
DTSTAMP:20260424T080435
CREATED:20230130T152210Z
LAST-MODIFIED:20230131T144743Z
UID:2441-1675332000-1675335600@focmastercalendar.com
SUMMARY:Marketing Team
DESCRIPTION:St. Asaph Meeting space \nWater available from 10-11 AM
URL:https://focmastercalendar.com/event/marketing-team/
LOCATION:KY
CATEGORIES:St. Asaph Meeting Space
END:VEVENT
BEGIN:VEVENT
DTSTART;TZID=America/Kentucky/Monticello:20230130T120000
DTEND;TZID=America/Kentucky/Monticello:20230130T170000
DTSTAMP:20260424T080435
CREATED:20230124T143025Z
LAST-MODIFIED:20230124T143025Z
UID:2413-1675080000-1675098000@focmastercalendar.com
SUMMARY:Image Quest
DESCRIPTION:
URL:https://focmastercalendar.com/event/image-quest/
LOCATION:KY
CATEGORIES:St. Asaph Meeting Space
ORGANIZER;CN="Julie Cox":MAILTO:julie@wildernessroadguest.com
END:VEVENT
BEGIN:VEVENT
DTSTART;TZID=America/Kentucky/Monticello:20230127T080000
DTEND;TZID=America/Kentucky/Monticello:20230127T170000
DTSTAMP:20260424T080435
CREATED:20230102T195011Z
LAST-MODIFIED:20230102T195011Z
UID:2386-1674806400-1674838800@focmastercalendar.com
SUMMARY:Team Modern
DESCRIPTION:10 people meeting in St. Asaph room. Candice Brown is contact.
URL:https://focmastercalendar.com/event/team-modern/
LOCATION:KY
CATEGORIES:St. Asaph Meeting Space
ORGANIZER;CN="Logan Miller":MAILTO:logan@wildernessroadguest.com
END:VEVENT
BEGIN:VEVENT
DTSTART;TZID=America/Kentucky/Monticello:20230120T083000
DTEND;TZID=America/Kentucky/Monticello:20230120T140000
DTSTAMP:20260424T080435
CREATED:20230109T132520Z
LAST-MODIFIED:20230109T132520Z
UID:2388-1674203400-1674223200@focmastercalendar.com
SUMMARY:KSS strategic planning meeting
DESCRIPTION:KSS team \nIn St. Asaph \n8:30 am- 2:00
URL:https://focmastercalendar.com/event/kss-strategic-planning-meeting/
LOCATION:St. Asaph Meeting Space\, 207 West Main Street\, Stanford\, KY\, 40484\, United States
CATEGORIES:St. Asaph Meeting Space
ORGANIZER;CN="Julie Cox":MAILTO:julie@wildernessroadguest.com
END:VEVENT
BEGIN:VEVENT
DTSTART;TZID=America/Kentucky/Monticello:20230119T140000
DTEND;TZID=America/Kentucky/Monticello:20230119T170000
DTSTAMP:20260424T080435
CREATED:20221212T160358Z
LAST-MODIFIED:20221212T160602Z
UID:2344-1674136800-1674147600@focmastercalendar.com
SUMMARY:Strategic Planning Extended
DESCRIPTION:small group meeting in St. Asaph \n2-5 pm \nNeed 3 colors of Markers and two of the easels with paper\, ink pens and notebooks in that room \nAttendees: \n\nJimmy Rousey\nSuzanne Short\nTommy Roberts\nAlex Keltner\nBrad Betack\nJohn Ball\nKeith Perrin\nTed Miller\nDiane Jeffries
URL:https://focmastercalendar.com/event/strategic-planning-extended/
LOCATION:St. Asaph Meeting Space\, 207 West Main Street\, Stanford\, KY\, 40484\, United States
CATEGORIES:St. Asaph Meeting Space
ORGANIZER;CN="Julie Cox":MAILTO:julie@wildernessroadguest.com
END:VEVENT
BEGIN:VEVENT
DTSTART;TZID=America/Kentucky/Monticello:20230117T183000
DTEND;TZID=America/Kentucky/Monticello:20230117T200000
DTSTAMP:20260424T080435
CREATED:20221214T214948Z
LAST-MODIFIED:20221220T220430Z
UID:2355-1673980200-1673985600@focmastercalendar.com
SUMMARY:WRH Event: Conversation about writing and publishing with Angela Correll
DESCRIPTION:Angela will share her journey of writing and publishing a book \nAn informal Q& A session in St. Asaph.  Refreshments \nA ticketed event
URL:https://focmastercalendar.com/event/a-night-with-angela/
LOCATION:St. Asaph Meeting Space\, 207 West Main Street\, Stanford\, KY\, 40484\, United States
CATEGORIES:Cerulean Dining Room,St. Asaph Meeting Space
ORGANIZER;CN="Julie Cox":MAILTO:julie@wildernessroadguest.com
END:VEVENT
BEGIN:VEVENT
DTSTART;VALUE=DATE:20221230
DTEND;VALUE=DATE:20230103
DTSTAMP:20260424T080435
CREATED:20220526T142545Z
LAST-MODIFIED:20220810T230337Z
UID:1804-1672358400-1672703999@focmastercalendar.com
SUMMARY:Angela Correll
DESCRIPTION:Details TBD
URL:https://focmastercalendar.com/event/angela-correll-3/
LOCATION:KY
CATEGORIES:Ballroom,Cerulean Dining Room,Cerulean Dining Room,Lodging,St. Asaph Meeting Space
ORGANIZER;CN="Julie Cox":MAILTO:julie@wildernessroadguest.com
END:VEVENT
BEGIN:VEVENT
DTSTART;VALUE=DATE:20221205
DTEND;VALUE=DATE:20221208
DTSTAMP:20260424T080435
CREATED:20220526T142544Z
LAST-MODIFIED:20221205T172252Z
UID:1802-1670198400-1670457599@focmastercalendar.com
SUMMARY:Board Meetings
DESCRIPTION:Time\nMeeting \nLocation\n\n\nDAY ONE\n\n\n3:00 PM am – 4:00 pm\nRiver Foundation Board Meeting\nBallroom\n\n\nDAY TWO\n\n\n8:00 am\nLight Breakfast\nHC Board Room\n\n\n8:30 am – 10:00 am\nAudit Committee\nHC Board Room\n\n\n10:00 am – 12:45 pm\nFSNB Board Meeting\nBallroom\n\n\n12:45 pm\nLunch w/FSNB Board and Bank Management\nCerulean\n\n\n3:00 pm – 5:00 pm\nStrategy Meeting (UTG Board Members Only)\nBallroom\n\n\n5:00 pm – 5:30 pm\nUTG Board Members/Investment Discussion\nBallroom\n\n\nBREAK\nBREAK\nBREAK\n\n\n6:00 pm\nReception\nSt. Asaph\n\n\n7:00 pm\nDinner\nCerulean\n\n\nDAY THREE\n\n\n7:30 am\nBuffet Breakfast\nCerulean\n\n\n8:30 am – 9:30 am\nUTG Audit Meeting\nJess’s Meeting Room\n\n\n10:00 am – 12:00 pm\nUTG Board Meeting\nBallroom\n\n\n12:00 pm\nMeeting Adjourned/Boxed Lunches\nBallroom\n\n\n\n 
URL:https://focmastercalendar.com/event/board-meetings-10/
LOCATION:The Ballroom\, 208 North Depot Street\, Stanford\, KY\, 40484\, United States
CATEGORIES:Ballroom,Cerulean Dining Room,Cerulean Dining Room,Lodging,St. Asaph Meeting Space,Terrace
ORGANIZER;CN="Julie Cox":MAILTO:julie@wildernessroadguest.com
END:VEVENT
BEGIN:VEVENT
DTSTART;VALUE=DATE:20221128
DTEND;VALUE=DATE:20221205
DTSTAMP:20260424T080435
CREATED:20221025T165243Z
LAST-MODIFIED:20221025T165841Z
UID:2284-1669593600-1670198399@focmastercalendar.com
SUMMARY:GAC Filming
DESCRIPTION:GAC film crew in Stanford\, filming for the week. \nAll details TBD
URL:https://focmastercalendar.com/event/gac-filming/
LOCATION:KY
CATEGORIES:Ballroom,Bluebird,Cerulean Dining Room,Lodging,Meeting Space,St. Asaph Meeting Space,Terrace
ORGANIZER;CN="Julie Cox":MAILTO:julie@wildernessroadguest.com
END:VEVENT
BEGIN:VEVENT
DTSTART;TZID=America/Kentucky/Monticello:20221121T160000
DTEND;TZID=America/Kentucky/Monticello:20221121T173000
DTSTAMP:20260424T080435
CREATED:20221121T201722Z
LAST-MODIFIED:20221116T201922Z
UID:2320-1669046400-1669051800@focmastercalendar.com
SUMMARY:Image Quest in St. Asaph Room
DESCRIPTION:Image Quest meeting in St. Asaph room from 4:00-5:30pm
URL:https://focmastercalendar.com/event/image-quest-in-st-asaph-room/
LOCATION:KY
CATEGORIES:St. Asaph Meeting Space
ORGANIZER;CN="Logan Miller":MAILTO:logan@wildernessroadguest.com
END:VEVENT
BEGIN:VEVENT
DTSTART;TZID=America/Kentucky/Monticello:20221121T160000
DTEND;TZID=America/Kentucky/Monticello:20221121T173000
DTSTAMP:20260424T080435
CREATED:20221116T202138Z
LAST-MODIFIED:20221116T202138Z
UID:2321-1669046400-1669051800@focmastercalendar.com
SUMMARY:Image Quest in St. Asaph
DESCRIPTION:Image Quest in St. Asaph room from 4:00-5:30pm
URL:https://focmastercalendar.com/event/image-quest-in-st-asaph/
LOCATION:KY
CATEGORIES:St. Asaph Meeting Space
ORGANIZER;CN="Logan Miller":MAILTO:logan@wildernessroadguest.com
END:VEVENT
BEGIN:VEVENT
DTSTART;TZID=America/Kentucky/Monticello:20221120T113000
DTEND;TZID=America/Kentucky/Monticello:20221120T180000
DTSTAMP:20260424T080435
CREATED:20221116T150958Z
LAST-MODIFIED:20221116T151018Z
UID:2316-1668943800-1668967200@focmastercalendar.com
SUMMARY:St. Asaph Reserved
DESCRIPTION:St. Asaph Reserved for Heather McWhorter \nSunday afternoon for private family gathering \n11:30 am – 5:00pm \n  \nHeather McWhorter is contact- 606-365-6957
URL:https://focmastercalendar.com/event/st-asaph-reserved/
LOCATION:St. Asaph Meeting Space\, 207 West Main Street\, Stanford\, KY\, 40484\, United States
CATEGORIES:St. Asaph Meeting Space
ORGANIZER;CN="Julie Cox":MAILTO:julie@wildernessroadguest.com
END:VEVENT
END:VCALENDAR