BEGIN:VCALENDAR
VERSION:2.0
PRODID:-//Master Calendar - ECPv6.8.1//NONSGML v1.0//EN
CALSCALE:GREGORIAN
METHOD:PUBLISH
X-WR-CALNAME:Master Calendar
X-ORIGINAL-URL:https://focmastercalendar.com
X-WR-CALDESC:Events for Master Calendar
REFRESH-INTERVAL;VALUE=DURATION:PT1H
X-Robots-Tag:noindex
X-PUBLISHED-TTL:PT1H
BEGIN:VTIMEZONE
TZID:America/Kentucky/Monticello
BEGIN:DAYLIGHT
TZOFFSETFROM:-0500
TZOFFSETTO:-0400
TZNAME:EDT
DTSTART:20230312T070000
END:DAYLIGHT
BEGIN:STANDARD
TZOFFSETFROM:-0400
TZOFFSETTO:-0500
TZNAME:EST
DTSTART:20231105T060000
END:STANDARD
END:VTIMEZONE
BEGIN:VEVENT
DTSTART;TZID=America/Kentucky/Monticello:20230926T180000
DTEND;TZID=America/Kentucky/Monticello:20230926T193000
DTSTAMP:20260420T171329
CREATED:20230611T220657Z
LAST-MODIFIED:20230611T220657Z
UID:2610-1695751200-1695756600@focmastercalendar.com
SUMMARY:KYSS Book Club
DESCRIPTION:4th Tuesday night of the month \nBook Club led by Cathy Hill \nSt. Asaph Room 6-7:30 pm \nBook List: \nTraces by Patricia Hudson \nThe Cadaver King and the Country Dentist by Ridley Balko and Tucker Carrington \nWho Killed Betty Gail Brown by Robert Lawson
URL:https://focmastercalendar.com/event/kyss-book-club-2-2023-09-26/
LOCATION:St. Asaph Meeting Space\, 207 West Main Street\, Stanford\, KY\, 40484\, United States
CATEGORIES:St. Asaph Meeting Space
ORGANIZER;CN="Julie Cox":MAILTO:julie@wildernessroadguest.com
END:VEVENT
BEGIN:VEVENT
DTSTART;TZID=America/Kentucky/Monticello:20230926T170000
DTEND;TZID=America/Kentucky/Monticello:20230926T183000
DTSTAMP:20260420T171329
CREATED:20230625T214835Z
LAST-MODIFIED:20230817T123116Z
UID:2648-1695747600-1695753000@focmastercalendar.com
SUMMARY:Chamber After Hours
DESCRIPTION:Regional Chamber After Hours – \nTours of WRH Entities\, food\, drinks- \nDetails TBD
URL:https://focmastercalendar.com/event/chamber-after-hours/
LOCATION:KY
CATEGORIES:Cerulean Dining Room,Lodging,St. Asaph Meeting Space,Terrace
ORGANIZER;CN="Julie Cox":MAILTO:julie@wildernessroadguest.com
END:VEVENT
BEGIN:VEVENT
DTSTART;TZID=America/Kentucky/Monticello:20230926T100000
DTEND;TZID=America/Kentucky/Monticello:20230926T143000
DTSTAMP:20260420T171329
CREATED:20230919T132521Z
LAST-MODIFIED:20230919T133212Z
UID:2731-1695722400-1695738600@focmastercalendar.com
SUMMARY:Wayne Co. Business Leaders visit
DESCRIPTION:Wayne County chamber is bringing 23 people to Stanford to visit.  (connection made w/ Lincoln Co. Chamber) \nWRH will host  a tour of houses\, soap making tour and lunch in Bluebird.. \nWe will start in St. Asaph Room with introductions then property tour\, lunch\, soap store tour… \n10-11:30 intro and property tour \n11:45 lunch in bluebird or cerulean \n1:30 Soap making tour \n 
URL:https://focmastercalendar.com/event/wayne-co-business-leaders-visit/
LOCATION:St. Asaph Meeting Space\, 207 West Main Street\, Stanford\, KY\, 40484\, United States
CATEGORIES:Bluebird,St. Asaph Meeting Space
ORGANIZER;CN="Julie Cox":MAILTO:julie@wildernessroadguest.com
END:VEVENT
BEGIN:VEVENT
DTSTART;VALUE=DATE:20230910
DTEND;VALUE=DATE:20230915
DTSTAMP:20260420T171329
CREATED:20220829T184133Z
LAST-MODIFIED:20230523T144911Z
UID:2213-1694304000-1694735999@focmastercalendar.com
SUMMARY:BOARD MEETINGS in KY
DESCRIPTION:Details forthcoming \n  \nWill be a KY Experience
URL:https://focmastercalendar.com/event/board-meetings-13/
LOCATION:The Ballroom\, 208 North Depot Street\, Stanford\, KY\, 40484\, United States
CATEGORIES:Ballroom,Cerulean Dining Room,Cerulean Dining Room,HC Boardroom,Lodging,St. Asaph Meeting Space,Terrace
ORGANIZER;CN="Julie Cox":MAILTO:julie@wildernessroadguest.com
END:VEVENT
BEGIN:VEVENT
DTSTART;VALUE=DATE:20230906
DTEND;VALUE=DATE:20230909
DTSTAMP:20260420T171329
CREATED:20230808T090627Z
LAST-MODIFIED:20230808T092740Z
UID:2677-1693958400-1694217599@focmastercalendar.com
SUMMARY:Mallory Lawrence Group
DESCRIPTION:Mallory Lawrence is a business owner in Western Ky who is interested in Stanford’s revitalization.  Business partner with FSNB’s western Ky group.  She’s bringing 6-10 ladies to have the Stanford Experience…. \narriving Wednesday evening… Enjoy Stanford on Thursday and depart on Friday. \nfinal details TBD \nBrad Harralson (FSNB in Western KY) is contact
URL:https://focmastercalendar.com/event/mallory-lawrence-group/
LOCATION:The Stanford Inn\, 207 West Main Street\, Stanford\, KY\, 40484\, United States
CATEGORIES:Bluebird,Cerulean Dining Room,Lodging,St. Asaph Meeting Space
ORGANIZER;CN="Julie Cox":MAILTO:julie@wildernessroadguest.com
END:VEVENT
BEGIN:VEVENT
DTSTART;VALUE=DATE:20230826
DTEND;VALUE=DATE:20230828
DTSTAMP:20260420T171329
CREATED:20230808T083006Z
LAST-MODIFIED:20230808T085925Z
UID:2675-1693008000-1693180799@focmastercalendar.com
SUMMARY:Taylor Made
DESCRIPTION:Arrive Saturday Aug 26 \nMeeting in St. Asaph on Saturday and through noon on Sunday \nDinner in Bluebird on Saturday night \nbox lunches on Sunday \n  \nMona  Ostendorf is contact
URL:https://focmastercalendar.com/event/taylor-made/
LOCATION:St. Asaph Meeting Space\, 207 West Main Street\, Stanford\, KY\, 40484\, United States
CATEGORIES:Bluebird,Cerulean Dining Room,Lodging,St. Asaph Meeting Space
ORGANIZER;CN="Julie Cox":MAILTO:julie@wildernessroadguest.com
END:VEVENT
BEGIN:VEVENT
DTSTART;TZID=America/Kentucky/Monticello:20230822T180000
DTEND;TZID=America/Kentucky/Monticello:20230822T193000
DTSTAMP:20260420T171329
CREATED:20230611T220657Z
LAST-MODIFIED:20230611T220657Z
UID:2609-1692727200-1692732600@focmastercalendar.com
SUMMARY:KYSS Book Club
DESCRIPTION:4th Tuesday night of the month \nBook Club led by Cathy Hill \nSt. Asaph Room 6-7:30 pm \nBook List: \nTraces by Patricia Hudson \nThe Cadaver King and the Country Dentist by Ridley Balko and Tucker Carrington \nWho Killed Betty Gail Brown by Robert Lawson
URL:https://focmastercalendar.com/event/kyss-book-club-2-2023-08-22/
LOCATION:St. Asaph Meeting Space\, 207 West Main Street\, Stanford\, KY\, 40484\, United States
CATEGORIES:St. Asaph Meeting Space
ORGANIZER;CN="Julie Cox":MAILTO:julie@wildernessroadguest.com
END:VEVENT
BEGIN:VEVENT
DTSTART;VALUE=DATE:20230820
DTEND;VALUE=DATE:20230827
DTSTAMP:20260420T171329
CREATED:20221006T144634Z
LAST-MODIFIED:20230807T183917Z
UID:2271-1692489600-1693094399@focmastercalendar.com
SUMMARY:Good Lit Retreat
DESCRIPTION:Schedule for GoodLit 2023 \nWeek long writer’s retreat \nDetails TBD \n 
URL:https://focmastercalendar.com/event/good-lit-retreat/
LOCATION:The Ballroom\, 208 North Depot Street\, Stanford\, KY\, 40484\, United States
CATEGORIES:Bluebird,Cerulean Dining Room,Lodging,St. Asaph Meeting Space,Terrace
ORGANIZER;CN="Julie Cox":MAILTO:julie@wildernessroadguest.com
END:VEVENT
BEGIN:VEVENT
DTSTART;VALUE=DATE:20230818
DTEND;VALUE=DATE:20230820
DTSTAMP:20260420T171329
CREATED:20230523T003436Z
LAST-MODIFIED:20230807T183200Z
UID:2593-1692316800-1692489599@focmastercalendar.com
SUMMARY:Southland retreat
DESCRIPTION:Retreat for ChurchPlanter couples \nTime for relaxation and reflection \nFriday- dinner in Bluebird \nSaturday will be fun day – \nMeeting in St. Asaph…. TBD \nMissy Cox is contact \n 
URL:https://focmastercalendar.com/event/southland-retreat/
LOCATION:St. Asaph Meeting Space\, 207 West Main Street\, Stanford\, KY\, 40484\, United States
CATEGORIES:Bluebird,Lodging,St. Asaph Meeting Space
ORGANIZER;CN="Julie Cox":MAILTO:julie@wildernessroadguest.com
END:VEVENT
BEGIN:VEVENT
DTSTART;TZID=America/Kentucky/Monticello:20230729T140000
DTEND;TZID=America/Kentucky/Monticello:20230730T170000
DTSTAMP:20260420T171329
CREATED:20230614T175618Z
LAST-MODIFIED:20230614T175618Z
UID:2637-1690639200-1690736400@focmastercalendar.com
SUMMARY:Taylor Made Retreat
DESCRIPTION:Meeting in St. Asaph on Sat starting at 2pm \ndinner – TBD \nMeeting in St. Asaph on Sunday \nLodging in the Stanford Inn \nFinal details TBD
URL:https://focmastercalendar.com/event/taylor-made-retreat-2/
LOCATION:St. Asaph Meeting Space\, 207 West Main Street\, Stanford\, KY\, 40484\, United States
CATEGORIES:Bluebird,Cerulean Dining Room,Lodging,St. Asaph Meeting Space
ORGANIZER;CN="Julie Cox":MAILTO:julie@wildernessroadguest.com
END:VEVENT
BEGIN:VEVENT
DTSTART;TZID=America/Kentucky/Monticello:20230728T150000
DTEND;TZID=America/Kentucky/Monticello:20230729T120000
DTSTAMP:20260420T171329
CREATED:20230516T145545Z
LAST-MODIFIED:20230613T184816Z
UID:2579-1690556400-1690632000@focmastercalendar.com
SUMMARY:JOG
DESCRIPTION:RF JOG \nFriday- 3pm in St. Asaph –  dinner at 6:15 – Bluebird \nSaturday – Bkfst in bluebird at 7:30  –  Boxed lunches from Cerulean \nMeetings in St. Asaph \n 
URL:https://focmastercalendar.com/event/jog-5/
LOCATION:St. Asaph Meeting Space\, 207 West Main Street\, Stanford\, KY\, 40484\, United States
CATEGORIES:Bluebird,Cerulean Dining Room,St. Asaph Meeting Space
ORGANIZER;CN="Julie Cox":MAILTO:julie@wildernessroadguest.com
END:VEVENT
BEGIN:VEVENT
DTSTART;TZID=America/Kentucky/Monticello:20230725T180000
DTEND;TZID=America/Kentucky/Monticello:20230725T193000
DTSTAMP:20260420T171329
CREATED:20230611T220657Z
LAST-MODIFIED:20230611T220657Z
UID:2608-1690308000-1690313400@focmastercalendar.com
SUMMARY:KYSS Book Club
DESCRIPTION:4th Tuesday night of the month \nBook Club led by Cathy Hill \nSt. Asaph Room 6-7:30 pm \nBook List: \nTraces by Patricia Hudson \nThe Cadaver King and the Country Dentist by Ridley Balko and Tucker Carrington \nWho Killed Betty Gail Brown by Robert Lawson
URL:https://focmastercalendar.com/event/kyss-book-club-2/
LOCATION:St. Asaph Meeting Space\, 207 West Main Street\, Stanford\, KY\, 40484\, United States
CATEGORIES:St. Asaph Meeting Space
ORGANIZER;CN="Julie Cox":MAILTO:julie@wildernessroadguest.com
END:VEVENT
BEGIN:VEVENT
DTSTART;TZID=America/Kentucky/Monticello:20230721T100000
DTEND;TZID=America/Kentucky/Monticello:20230722T130000
DTSTAMP:20260420T171329
CREATED:20230710T171705Z
LAST-MODIFIED:20230710T171705Z
UID:2655-1689933600-1690030800@focmastercalendar.com
SUMMARY:Red Oak Elementary School Leaders Retreat
DESCRIPTION:Meeting in St. Asaph from Fr 10 am to Saturday noon \n3 rooms reserved \nBluebird for dinner for 5 people.
URL:https://focmastercalendar.com/event/red-oak-elementary-school-leaders-retreat/
LOCATION:St. Asaph Meeting Space\, 207 West Main Street\, Stanford\, KY\, 40484\, United States
CATEGORIES:Bluebird,St. Asaph Meeting Space
ORGANIZER;CN="Julie Cox":MAILTO:julie@wildernessroadguest.com
END:VEVENT
BEGIN:VEVENT
DTSTART;TZID=America/Kentucky/Monticello:20230713T080000
DTEND;TZID=America/Kentucky/Monticello:20230713T170000
DTSTAMP:20260420T171329
CREATED:20230512T183829Z
LAST-MODIFIED:20230608T131826Z
UID:2575-1689235200-1689267600@focmastercalendar.com
SUMMARY:Centre College - Center for teaching & learning
DESCRIPTION:Retreat for the day…. \n8-4 \nLisa Curlis is contact   lisa.curlis@centre.edu \nmeeting in St. Asaph \nlunch at bluebird at 12:15 pm – (use tax exemption)
URL:https://focmastercalendar.com/event/centre-college-center-for-teaching-learning/
LOCATION:St. Asaph Meeting Space\, 207 West Main Street\, Stanford\, KY\, 40484\, United States
CATEGORIES:Bluebird,St. Asaph Meeting Space
ORGANIZER;CN="Julie Cox":MAILTO:julie@wildernessroadguest.com
END:VEVENT
BEGIN:VEVENT
DTSTART;TZID=America/Kentucky/Monticello:20230710T090000
DTEND;TZID=America/Kentucky/Monticello:20230710T120000
DTSTAMP:20260420T171329
CREATED:20230623T183410Z
LAST-MODIFIED:20230623T183425Z
UID:2647-1688979600-1688990400@focmastercalendar.com
SUMMARY:St. Asaph Reserved
DESCRIPTION:Interview w/ Madison Staed \nJulie Cox contact
URL:https://focmastercalendar.com/event/st-asaph-reserved-3/
LOCATION:St. Asaph Meeting Space\, 207 West Main Street\, Stanford\, KY\, 40484\, United States
CATEGORIES:St. Asaph Meeting Space
ORGANIZER;CN="Julie Cox":MAILTO:julie@wildernessroadguest.com
END:VEVENT
BEGIN:VEVENT
DTSTART;TZID=America/Kentucky/Monticello:20230627T180000
DTEND;TZID=America/Kentucky/Monticello:20230627T193000
DTSTAMP:20260420T171329
CREATED:20230530T215530Z
LAST-MODIFIED:20230530T215530Z
UID:2603-1687888800-1687894200@focmastercalendar.com
SUMMARY:KYSS Book Club
DESCRIPTION:Hosted by KY Soaps & Such \n6-7:30 pm \nSt. Asaph Room
URL:https://focmastercalendar.com/event/kyss-book-club/
LOCATION:St. Asaph Meeting Space\, 207 West Main Street\, Stanford\, KY\, 40484\, United States
CATEGORIES:St. Asaph Meeting Space
ORGANIZER;CN="Julie Cox":MAILTO:julie@wildernessroadguest.com
END:VEVENT
BEGIN:VEVENT
DTSTART;TZID=America/Kentucky/Monticello:20230617T080000
DTEND;TZID=America/Kentucky/Monticello:20230617T170000
DTSTAMP:20260420T171329
CREATED:20230516T144118Z
LAST-MODIFIED:20230516T144118Z
UID:2577-1686988800-1687021200@focmastercalendar.com
SUMMARY:St. Asaph Reserved
DESCRIPTION:FOC team member – Amy Rogers using St. Asaph \nprivate gathering (baby shower) \nTime tbd \nAmy Rogers – 859-619-3555
URL:https://focmastercalendar.com/event/st-asaph-reserved-2/
LOCATION:St. Asaph Meeting Space\, 207 West Main Street\, Stanford\, KY\, 40484\, United States
CATEGORIES:St. Asaph Meeting Space
ORGANIZER;CN="Julie Cox":MAILTO:julie@wildernessroadguest.com
END:VEVENT
BEGIN:VEVENT
DTSTART;TZID=America/Kentucky/Monticello:20230615T150000
DTEND;TZID=America/Kentucky/Monticello:20230616T120000
DTSTAMP:20260420T171329
CREATED:20230125T213654Z
LAST-MODIFIED:20230531T144003Z
UID:2429-1686841200-1686916800@focmastercalendar.com
SUMMARY:JOG for Interns
DESCRIPTION:RF will host a JOG for the Summer Interns \nProgram begins at 3:00 pm with overnight then ends by noon on 2nd day. \nDinner at Cerulean on June 15 at 6:15 pm \nBreakfast in Bluebird on June 16 at 7:30 am \nBox lunch at noon \nMeetings in St. Asaph. \nContact:  Brett Elleman  859-339-8149
URL:https://focmastercalendar.com/event/jog-for-interns/
LOCATION:St. Asaph Meeting Space\, 207 West Main Street\, Stanford\, KY\, 40484\, United States
CATEGORIES:Bluebird,Cerulean Dining Room,Lodging,St. Asaph Meeting Space
ORGANIZER;CN="Julie Cox":MAILTO:julie@wildernessroadguest.com
END:VEVENT
BEGIN:VEVENT
DTSTART;TZID=America/Kentucky/Monticello:20230605T113000
DTEND;TZID=America/Kentucky/Monticello:20230605T123000
DTSTAMP:20260420T171329
CREATED:20230519T190618Z
LAST-MODIFIED:20230519T190632Z
UID:2590-1685964600-1685968200@focmastercalendar.com
SUMMARY:Spa Team meeting
DESCRIPTION:Spa team meet in St. Asaph for lunch and discussion
URL:https://focmastercalendar.com/event/spa-monthly-meeting/
LOCATION:St. Asaph Meeting Space\, 207 West Main Street\, Stanford\, KY\, 40484\, United States
CATEGORIES:St. Asaph Meeting Space
ORGANIZER;CN="Julie Cox":MAILTO:julie@wildernessroadguest.com
END:VEVENT
BEGIN:VEVENT
DTSTART;VALUE=DATE:20230605
DTEND;VALUE=DATE:20230608
DTSTAMP:20260420T171329
CREATED:20220829T183948Z
LAST-MODIFIED:20220829T183948Z
UID:2212-1685923200-1686182399@focmastercalendar.com
SUMMARY:BOARD MEETINGS
DESCRIPTION:Details forthcoming
URL:https://focmastercalendar.com/event/board-meetings-12/
LOCATION:The Ballroom\, 208 North Depot Street\, Stanford\, KY\, 40484\, United States
CATEGORIES:Ballroom,Cerulean Dining Room,Cerulean Dining Room,HC Boardroom,Lodging,St. Asaph Meeting Space,Terrace
ORGANIZER;CN="Julie Cox":MAILTO:julie@wildernessroadguest.com
END:VEVENT
BEGIN:VEVENT
DTSTART;TZID=America/Kentucky/Monticello:20230601T090000
DTEND;TZID=America/Kentucky/Monticello:20230601T170000
DTSTAMP:20260420T171329
CREATED:20230516T140529Z
LAST-MODIFIED:20230516T140529Z
UID:2576-1685610000-1685638800@focmastercalendar.com
SUMMARY:RMHC Retreat Day
DESCRIPTION:Lexington’s Ronald McDonald’s House Charity – \nLeadership team retreat – for the day in St. Asaph \nLunch for 4 at Bluebird at Noon \nHannah Garnett is contact (she attended her with Word Made Flesh and now works with RMHC) \n 
URL:https://focmastercalendar.com/event/rmhc-retreat-day/
LOCATION:St. Asaph Meeting Space\, 207 West Main Street\, Stanford\, KY\, 40484\, United States
CATEGORIES:Bluebird,St. Asaph Meeting Space
ORGANIZER;CN="Julie Cox":MAILTO:julie@wildernessroadguest.com
END:VEVENT
BEGIN:VEVENT
DTSTART;VALUE=DATE:20230530
DTEND;VALUE=DATE:20230601
DTSTAMP:20260420T171329
CREATED:20230308T222555Z
LAST-MODIFIED:20230523T005627Z
UID:2511-1685404800-1685577599@focmastercalendar.com
SUMMARY:Taylor Made Sr. Exec Retreat
DESCRIPTION:7 people on day 1; 13 on day 2 \nThe Inn rooms \nMeeting in St. Asaph – Tuesday and Wednesday \nLunch in Bluebird on Tuesday \nDinner in Mama D’s- Tuesday night \nLunch- boxed by Cerulean . served in St. ASaph \nMore details TBD
URL:https://focmastercalendar.com/event/taylor-made-sr-exec-retreat/
LOCATION:St. Asaph Meeting Space\, 207 West Main Street\, Stanford\, KY\, 40484\, United States
CATEGORIES:Bluebird,Lodging,Mama D's,St. Asaph Meeting Space
ORGANIZER;CN="Julie Cox":MAILTO:julie@wildernessroadguest.com
END:VEVENT
BEGIN:VEVENT
DTSTART;TZID=America/Kentucky/Monticello:20230517T090000
DTEND;TZID=America/Kentucky/Monticello:20230517T140000
DTSTAMP:20260420T171329
CREATED:20230505T171604Z
LAST-MODIFIED:20230508T154355Z
UID:2564-1684314000-1684332000@focmastercalendar.com
SUMMARY:St. Asaph - Regional Branch Meeting
DESCRIPTION:FSNB Regional Branch meeting \n9-2 \nSt. Asaph room \nLunch ordered from Bluebird \nSusan Wells – contact
URL:https://focmastercalendar.com/event/st-asaph-regional-branch-meeting/
LOCATION:St. Asaph Meeting Space\, 207 West Main Street\, Stanford\, KY\, 40484\, United States
CATEGORIES:St. Asaph Meeting Space
ORGANIZER;CN="Julie Cox":MAILTO:julie@wildernessroadguest.com
END:VEVENT
BEGIN:VEVENT
DTSTART;TZID=America/Kentucky/Monticello:20230516T143000
DTEND;TZID=America/Kentucky/Monticello:20230516T170000
DTSTAMP:20260420T171329
CREATED:20230509T163605Z
LAST-MODIFIED:20230509T163605Z
UID:2570-1684247400-1684256400@focmastercalendar.com
SUMMARY:Financial Literacy Meeting
DESCRIPTION:Alex Keltner \n10-12 people in St. Asaph \nNo needs other than space
URL:https://focmastercalendar.com/event/financial-literacy-meeting/
LOCATION:St. Asaph Meeting Space\, 207 West Main Street\, Stanford\, KY\, 40484\, United States
CATEGORIES:St. Asaph Meeting Space
ORGANIZER;CN="Julie Cox":MAILTO:julie@wildernessroadguest.com
END:VEVENT
BEGIN:VEVENT
DTSTART;TZID=America/Kentucky/Monticello:20230516T090000
DTEND;TZID=America/Kentucky/Monticello:20230516T140000
DTSTAMP:20260420T171329
CREATED:20230508T154506Z
LAST-MODIFIED:20230508T154506Z
UID:2566-1684227600-1684245600@focmastercalendar.com
SUMMARY:FSNB Branch Meeting - St. Asaph Room
DESCRIPTION:FSNB Regional Branch meeting \n9-2 \nSt. Asaph room \nLunch ordered from Bluebird \nSusan Wells – contact
URL:https://focmastercalendar.com/event/fsnb-branch-meeting-st-asaph-room/
LOCATION:St. Asaph Meeting Space\, 207 West Main Street\, Stanford\, KY\, 40484\, United States
CATEGORIES:Bluebird,St. Asaph Meeting Space
ORGANIZER;CN="Julie Cox":MAILTO:julie@wildernessroadguest.com
END:VEVENT
BEGIN:VEVENT
DTSTART;TZID=America/Kentucky/Monticello:20230427T123000
DTEND;TZID=America/Kentucky/Monticello:20230427T133000
DTSTAMP:20260420T171329
CREATED:20230327T204826Z
LAST-MODIFIED:20230327T204826Z
UID:2536-1682598600-1682602200@focmastercalendar.com
SUMMARY:Bible Study
DESCRIPTION:“Living out God’s Story” – hosted by Jami Cervantes & River Foundation \n4 week Study –  attend one or all…. each week is independent \nSt. Asaph Meeting Room \n3 time options:\n8:45-9:30am\n11:30-12:30pm*\n12:30-1:30pm
URL:https://focmastercalendar.com/event/bible-study-6-2023-04-27/
LOCATION:St. Asaph Meeting Space\, 207 West Main Street\, Stanford\, KY\, 40484\, United States
CATEGORIES:St. Asaph Meeting Space
ORGANIZER;CN="Julie Cox":MAILTO:julie@wildernessroadguest.com
END:VEVENT
BEGIN:VEVENT
DTSTART;TZID=America/Kentucky/Monticello:20230427T113000
DTEND;TZID=America/Kentucky/Monticello:20230427T123000
DTSTAMP:20260420T171329
CREATED:20230327T204738Z
LAST-MODIFIED:20230327T204738Z
UID:2533-1682595000-1682598600@focmastercalendar.com
SUMMARY:Bible Study
DESCRIPTION:“Living out God’s Story” – hosted by Jami Cervantes & River Foundation \n4 week Study –  attend one or all…. each week is independent \nSt. Asaph Meeting Room \n3 time options:\n8:45-9:30am\n11:30-12:30pm*\n12:30-1:30pm
URL:https://focmastercalendar.com/event/bible-study-5-2023-04-27/
LOCATION:St. Asaph Meeting Space\, 207 West Main Street\, Stanford\, KY\, 40484\, United States
CATEGORIES:St. Asaph Meeting Space
ORGANIZER;CN="Julie Cox":MAILTO:julie@wildernessroadguest.com
END:VEVENT
BEGIN:VEVENT
DTSTART;TZID=America/Kentucky/Monticello:20230427T084500
DTEND;TZID=America/Kentucky/Monticello:20230427T093000
DTSTAMP:20260420T171329
CREATED:20230327T204646Z
LAST-MODIFIED:20230327T204646Z
UID:2530-1682585100-1682587800@focmastercalendar.com
SUMMARY:Bible Study
DESCRIPTION:“Living out God’s Story” – hosted by Jami Cervantes & River Foundation \n4 week Study –  attend one or all…. each week is independent \nSt. Asaph Meeting Room \n3 time options:\n8:45-9:30am\n11:30-12:30pm*\n12:30-1:30pm
URL:https://focmastercalendar.com/event/bible-study-4-2023-04-27/
LOCATION:St. Asaph Meeting Space\, 207 West Main Street\, Stanford\, KY\, 40484\, United States
CATEGORIES:St. Asaph Meeting Space
ORGANIZER;CN="Julie Cox":MAILTO:julie@wildernessroadguest.com
END:VEVENT
BEGIN:VEVENT
DTSTART;TZID=America/Kentucky/Monticello:20230425T170000
DTEND;TZID=America/Kentucky/Monticello:20230425T193000
DTSTAMP:20260420T171329
CREATED:20230414T135518Z
LAST-MODIFIED:20230414T135518Z
UID:2549-1682442000-1682451000@focmastercalendar.com
SUMMARY:KSS Handbook Meeting
DESCRIPTION:Soap Store staff Meeting to discuss handbook \nMama D’s pizzas
URL:https://focmastercalendar.com/event/kss-handbook-meeting/
LOCATION:St. Asaph Meeting Space\, 207 West Main Street\, Stanford\, KY\, 40484\, United States
CATEGORIES:Mama D's,St. Asaph Meeting Space
ORGANIZER;CN="Julie Cox":MAILTO:julie@wildernessroadguest.com
END:VEVENT
BEGIN:VEVENT
DTSTART;VALUE=DATE:20230424
DTEND;VALUE=DATE:20230427
DTSTAMP:20260420T171329
CREATED:20221220T155511Z
LAST-MODIFIED:20230412T214034Z
UID:2375-1682294400-1682553599@focmastercalendar.com
SUMMARY:Wedgewood Investment Group
DESCRIPTION:Terence Berry is contact – \n310-709-3244 \nMon Apr 24\, 2023 @ 6:00 PM – 6:45 PM Opening Reception St. Asaph Meeting Space\nMon Apr 24\, 2023 @ 7:00 PM – 9:00 PM Opening Dinner Cerulean\nMon Apr 24\, 2023 @ 9:00 PM – 10:00 PM Bourbon Conversations Terrace \nTue Apr 25\, 2023 @ 8:00 AM – 9:30 AM Breakfast #1 Buffet \nTue Apr 25\, 2023 @ 9:45 AM – 12:00 PM Morning Sessions: Successful Investing Ballroom\nTue Apr 25\, 2023 @ 12:30 PM – 1:30 PM Lunch #1 Cerulean\nTue Apr 25\, 2023 @ 1:45 PM – 4:00 PM Afternoon Session: Ballroom\nTue Apr 25\, 2023 @ 6:00 PM – 9:00 PM Reception & Dinner at Correll Farm \n 
URL:https://focmastercalendar.com/event/wedgewood-investment-group/
LOCATION:The Ballroom\, 208 North Depot Street\, Stanford\, KY\, 40484\, United States
CATEGORIES:Ballroom,Bluebird,Cerulean Dining Room,Lodging,Mama D's,St. Asaph Meeting Space
ORGANIZER;CN="Julie Cox":MAILTO:julie@wildernessroadguest.com
END:VEVENT
END:VCALENDAR