BEGIN:VCALENDAR
VERSION:2.0
PRODID:-//Master Calendar - ECPv6.8.1//NONSGML v1.0//EN
CALSCALE:GREGORIAN
METHOD:PUBLISH
X-WR-CALNAME:Master Calendar
X-ORIGINAL-URL:https://focmastercalendar.com
X-WR-CALDESC:Events for Master Calendar
REFRESH-INTERVAL;VALUE=DURATION:PT1H
X-Robots-Tag:noindex
X-PUBLISHED-TTL:PT1H
BEGIN:VTIMEZONE
TZID:America/Kentucky/Louisville
BEGIN:DAYLIGHT
TZOFFSETFROM:-0500
TZOFFSETTO:-0400
TZNAME:EDT
DTSTART:20220313T070000
END:DAYLIGHT
BEGIN:STANDARD
TZOFFSETFROM:-0400
TZOFFSETTO:-0500
TZNAME:EST
DTSTART:20221106T060000
END:STANDARD
TZID:America/Kentucky/Monticello
BEGIN:DAYLIGHT
TZOFFSETFROM:-0500
TZOFFSETTO:-0400
TZNAME:EDT
DTSTART:20220313T070000
END:DAYLIGHT
BEGIN:STANDARD
TZOFFSETFROM:-0400
TZOFFSETTO:-0500
TZNAME:EST
DTSTART:20221106T060000
END:STANDARD
END:VTIMEZONE
BEGIN:VEVENT
DTSTART;VALUE=DATE:20220814
DTEND;VALUE=DATE:20220821
DTSTAMP:20260425T050010
CREATED:20220525T210631Z
LAST-MODIFIED:20220708T000945Z
UID:1609-1660435200-1661039999@focmastercalendar.com
SUMMARY:Good Lit - Wedgewood Circle
DESCRIPTION:GoodLit\, supports up-and-coming\, faith-driven writers with mentorship\, resources\, and creative writing retreats to help them flourish as future published authors in the mainstream media. \n15 writers \nRetreat       Schedule for GoodLit 2022 \nTerrence Berry is contact for the group \n  \nhttp://www.wedgwoodcircle.com/goodlit
URL:https://focmastercalendar.com/event/good-lit/
LOCATION:KY
CATEGORIES:Ballroom,Cerulean Dining Room,Lodging,St. Asaph Meeting Space,Terrace
ORGANIZER;CN="Julie Cox":MAILTO:julie@wildernessroadguest.com
END:VEVENT
BEGIN:VEVENT
DTSTART;TZID=America/Kentucky/Monticello:20220817T090000
DTEND;TZID=America/Kentucky/Monticello:20220817T120000
DTSTAMP:20260425T050010
CREATED:20220708T010641Z
LAST-MODIFIED:20220708T010814Z
UID:2078-1660726800-1660737600@focmastercalendar.com
SUMMARY:Good Lit Morning Session
DESCRIPTION:Workshopping at St. Asaph or Bluebird \n9am -12
URL:https://focmastercalendar.com/event/good-lit-morning-session-2/
LOCATION:St. Asaph Meeting Space\, 207 West Main Street\, Stanford\, KY\, 40484\, United States
CATEGORIES:St. Asaph Meeting Space
ORGANIZER;CN="Julie Cox":MAILTO:julie@wildernessroadguest.com
END:VEVENT
BEGIN:VEVENT
DTSTART;TZID=America/Kentucky/Monticello:20220817T130000
DTEND;TZID=America/Kentucky/Monticello:20220817T173000
DTSTAMP:20260425T050010
CREATED:20220708T011103Z
LAST-MODIFIED:20220708T011103Z
UID:2080-1660741200-1660757400@focmastercalendar.com
SUMMARY:GoodLit Afternoon Session
DESCRIPTION:One-on-one’s \nSt. Asaph & /or Bluebird
URL:https://focmastercalendar.com/event/goodlit-afternoon-session/
LOCATION:St. Asaph Meeting Space\, 207 West Main Street\, Stanford\, KY\, 40484\, United States
CATEGORIES:St. Asaph Meeting Space
ORGANIZER;CN="Julie Cox":MAILTO:julie@wildernessroadguest.com
END:VEVENT
END:VCALENDAR