BEGIN:VCALENDAR
VERSION:2.0
PRODID:-//Master Calendar - ECPv6.8.1//NONSGML v1.0//EN
CALSCALE:GREGORIAN
METHOD:PUBLISH
X-ORIGINAL-URL:https://focmastercalendar.com
X-WR-CALDESC:Events for Master Calendar
REFRESH-INTERVAL;VALUE=DURATION:PT1H
X-Robots-Tag:noindex
X-PUBLISHED-TTL:PT1H
BEGIN:VTIMEZONE
TZID:America/Kentucky/Monticello
BEGIN:DAYLIGHT
TZOFFSETFROM:-0500
TZOFFSETTO:-0400
TZNAME:EDT
DTSTART:20220313T070000
END:DAYLIGHT
BEGIN:STANDARD
TZOFFSETFROM:-0400
TZOFFSETTO:-0500
TZNAME:EST
DTSTART:20221106T060000
END:STANDARD
END:VTIMEZONE
BEGIN:VEVENT
DTSTART;TZID=America/Kentucky/Monticello:20220810T100000
DTEND;TZID=America/Kentucky/Monticello:20220810T110000
DTSTAMP:20260424T060416
CREATED:20220630T184201Z
LAST-MODIFIED:20220808T150318Z
UID:1968-1660125600-1660129200@focmastercalendar.com
SUMMARY:Call center & the Inn meeting
DESCRIPTION:monthly meeting for Call Center and The Inn directors
URL:https://focmastercalendar.com/event/call-center-the-inn-meeting-2022-08-10/
LOCATION:St. Asaph Meeting Space\, 207 West Main Street\, Stanford\, KY\, 40484\, United States
CATEGORIES:St. Asaph Meeting Space
ORGANIZER;CN="Julie Cox":MAILTO:julie@wildernessroadguest.com
END:VEVENT
BEGIN:VEVENT
DTSTART;TZID=America/Kentucky/Monticello:20220810T160000
DTEND;TZID=America/Kentucky/Monticello:20220810T180000
DTSTAMP:20260424T060416
CREATED:20220802T213040Z
LAST-MODIFIED:20220808T150010Z
UID:2114-1660147200-1660154400@focmastercalendar.com
SUMMARY:WRH Hiring Training
DESCRIPTION:Training with culinary team. 3-5 people. From 4-6pm in St. Asaph room.
URL:https://focmastercalendar.com/event/wrh-hiring-training/
LOCATION:KY
CATEGORIES:St. Asaph Meeting Space
END:VEVENT
END:VCALENDAR