BEGIN:VCALENDAR
VERSION:2.0
PRODID:-//Master Calendar - ECPv6.8.1//NONSGML v1.0//EN
CALSCALE:GREGORIAN
METHOD:PUBLISH
X-ORIGINAL-URL:https://focmastercalendar.com
X-WR-CALDESC:Events for Master Calendar
REFRESH-INTERVAL;VALUE=DURATION:PT1H
X-Robots-Tag:noindex
X-PUBLISHED-TTL:PT1H
BEGIN:VTIMEZONE
TZID:America/Kentucky/Monticello
BEGIN:DAYLIGHT
TZOFFSETFROM:-0500
TZOFFSETTO:-0400
TZNAME:EDT
DTSTART:20220313T070000
END:DAYLIGHT
BEGIN:STANDARD
TZOFFSETFROM:-0400
TZOFFSETTO:-0500
TZNAME:EST
DTSTART:20221106T060000
END:STANDARD
END:VTIMEZONE
BEGIN:VEVENT
DTSTART;TZID=America/Kentucky/Monticello:20221220T080000
DTEND;TZID=America/Kentucky/Monticello:20221220T083000
DTSTAMP:20260422T185020
CREATED:20221206T150312Z
LAST-MODIFIED:20221206T150312Z
UID:2330-1671523200-1671525000@focmastercalendar.com
SUMMARY:Cerulean- Breakfast for Lynn Akers
DESCRIPTION:For Lynn Akers \nBreakfast in HC Boardroom \n15 people
URL:https://focmastercalendar.com/event/cerulean-breakfast-for-lynn-akers/
LOCATION:Board Room\, 202 West Main Street\, Stanford\, KY\, 40484\, United States
CATEGORIES:Cerulean Dining Room,HC Boardroom
ORGANIZER;CN="Julie Cox":MAILTO:julie@wildernessroadguest.com
END:VEVENT
BEGIN:VEVENT
DTSTART;TZID=America/Kentucky/Monticello:20221220T120000
DTEND;TZID=America/Kentucky/Monticello:20221220T130000
DTSTAMP:20260422T185020
CREATED:20221206T150652Z
LAST-MODIFIED:20221206T150652Z
UID:2333-1671537600-1671541200@focmastercalendar.com
SUMMARY:Cerulean Lunch - lynn akers
DESCRIPTION:Lunch for Lynn Akers \nin HC Boardroom \nfor 15 people
URL:https://focmastercalendar.com/event/cerulean-lunch-lynn-akers/
LOCATION:Board Room\, 202 West Main Street\, Stanford\, KY\, 40484\, United States
CATEGORIES:Cerulean Dining Room,HC Boardroom
ORGANIZER;CN="Julie Cox":MAILTO:julie@wildernessroadguest.com
END:VEVENT
END:VCALENDAR