BEGIN:VCALENDAR
VERSION:2.0
PRODID:-//Master Calendar - ECPv6.8.1//NONSGML v1.0//EN
CALSCALE:GREGORIAN
METHOD:PUBLISH
X-ORIGINAL-URL:https://focmastercalendar.com
X-WR-CALDESC:Events for Master Calendar
REFRESH-INTERVAL;VALUE=DURATION:PT1H
X-Robots-Tag:noindex
X-PUBLISHED-TTL:PT1H
BEGIN:VTIMEZONE
TZID:America/Kentucky/Monticello
BEGIN:DAYLIGHT
TZOFFSETFROM:-0500
TZOFFSETTO:-0400
TZNAME:EDT
DTSTART:20240310T070000
END:DAYLIGHT
BEGIN:STANDARD
TZOFFSETFROM:-0400
TZOFFSETTO:-0500
TZNAME:EST
DTSTART:20241103T060000
END:STANDARD
END:VTIMEZONE
BEGIN:VEVENT
DTSTART;VALUE=DATE:20240811
DTEND;VALUE=DATE:20240817
DTSTAMP:20260422T235005
CREATED:20231112T225459Z
LAST-MODIFIED:20231112T225459Z
UID:2820-1723334400-1723852799@focmastercalendar.com
SUMMARY:Wedgewood GOOD Lit Retreat
DESCRIPTION:Writer’s retreat… \nFull week of housing\, food\, meetings\, activities \nDetails TBD \nTerence Berry is contact
URL:https://focmastercalendar.com/event/wedgewood-good-lit-retreat/
LOCATION:The Ballroom\, 208 North Depot Street\, Stanford\, KY\, 40484\, United States
CATEGORIES:Ballroom,Bluebird,Cerulean Dining Room,Cerulean Dining Room,Lodging,St. Asaph Meeting Space
ORGANIZER;CN="Julie Cox":MAILTO:julie@wildernessroadguest.com
END:VEVENT
BEGIN:VEVENT
DTSTART;VALUE=DATE:20240807
DTEND;VALUE=DATE:20240811
DTSTAMP:20260422T235005
CREATED:20240414T001829Z
LAST-MODIFIED:20240414T001829Z
UID:2986-1722988800-1723334399@focmastercalendar.com
SUMMARY:Vapor Ministries Global Retreat
DESCRIPTION:Vapor ministries will bring in their missionary partners from around the world and have a retreat. \nMore details to come
URL:https://focmastercalendar.com/event/vapor-ministries-global-retreat/
LOCATION:The Ballroom\, 208 North Depot Street\, Stanford\, KY\, 40484\, United States
CATEGORIES:Ballroom,Cerulean Dining Room,Lodging
ORGANIZER;CN="Julie Cox":MAILTO:julie@wildernessroadguest.com
END:VEVENT
BEGIN:VEVENT
DTSTART;TZID=America/Kentucky/Monticello:20240802T080000
DTEND;TZID=America/Kentucky/Monticello:20240802T170000
DTSTAMP:20260422T235005
CREATED:20240111T214020Z
LAST-MODIFIED:20240111T214020Z
UID:2907-1722585600-1722618000@focmastercalendar.com
SUMMARY:Intern Send-off
DESCRIPTION:in ballroom. also provide lunch
URL:https://focmastercalendar.com/event/intern-send-off-2/
LOCATION:KY
CATEGORIES:Ballroom,Food
ORGANIZER;CN="Julie Cox":MAILTO:julie@wildernessroadguest.com
END:VEVENT
BEGIN:VEVENT
DTSTART;TZID=America/Kentucky/Monticello:20240731T130000
DTEND;TZID=America/Kentucky/Monticello:20240731T160000
DTSTAMP:20260422T235005
CREATED:20231218T160717Z
LAST-MODIFIED:20240703T153707Z
UID:2851-1722430800-1722441600@focmastercalendar.com
SUMMARY:Financial Literacy - Soft Launch
DESCRIPTION:Meetings in Ballroom \nOutline: \n  \nKara Bastin is contact –
URL:https://focmastercalendar.com/event/culture-orientation-foc-2/
LOCATION:The Ballroom\, 208 North Depot Street\, Stanford\, KY\, 40484\, United States
CATEGORIES:Ballroom,Cerulean Dining Room
ORGANIZER;CN="Julie Cox":MAILTO:julie@wildernessroadguest.com
END:VEVENT
BEGIN:VEVENT
DTSTART;VALUE=DATE:20240714
DTEND;VALUE=DATE:20240715
DTSTAMP:20260422T235005
CREATED:20240705T133821Z
LAST-MODIFIED:20240705T133821Z
UID:3042-1720915200-1721001599@focmastercalendar.com
SUMMARY:FOC Team Member - Ballroom reservation
DESCRIPTION:Heather McWhorter- \nReserve Ballroom \n 
URL:https://focmastercalendar.com/event/foc-team-member-ballroom-reservation/
LOCATION:The Ballroom\, 208 North Depot Street\, Stanford\, KY\, 40484\, United States
CATEGORIES:Ballroom
ORGANIZER;CN="Julie Cox":MAILTO:julie@wildernessroadguest.com
END:VEVENT
BEGIN:VEVENT
DTSTART;TZID=America/Kentucky/Monticello:20240703T090000
DTEND;TZID=America/Kentucky/Monticello:20240703T150000
DTSTAMP:20260422T235005
CREATED:20240619T192221Z
LAST-MODIFIED:20240619T192221Z
UID:3035-1719997200-1720018800@focmastercalendar.com
SUMMARY:5 by 5 Change
DESCRIPTION:Meeting in Ballroom \n4 guests \nCandice Brown is contact
URL:https://focmastercalendar.com/event/5-by-5-change/
LOCATION:The Ballroom\, 208 North Depot Street\, Stanford\, KY\, 40484\, United States
CATEGORIES:Ballroom
ORGANIZER;CN="Julie Cox":MAILTO:julie@wildernessroadguest.com
END:VEVENT
BEGIN:VEVENT
DTSTART;TZID=America/Kentucky/Monticello:20240702T100000
DTEND;TZID=America/Kentucky/Monticello:20240702T120000
DTSTAMP:20260422T235005
CREATED:20240619T184752Z
LAST-MODIFIED:20240619T184752Z
UID:3033-1719914400-1719921600@focmastercalendar.com
SUMMARY:River Foundation Board Meeting
DESCRIPTION:in Ballroom \n10-Noon
URL:https://focmastercalendar.com/event/river-foundation-board-meeting/
LOCATION:The Ballroom\, 208 North Depot Street\, Stanford\, KY\, 40484\, United States
CATEGORIES:Ballroom,Meeting Space
ORGANIZER;CN="Julie Cox":MAILTO:julie@wildernessroadguest.com
END:VEVENT
BEGIN:VEVENT
DTSTART;VALUE=DATE:20240626
DTEND;VALUE=DATE:20240629
DTSTAMP:20260422T235005
CREATED:20230821T150925Z
LAST-MODIFIED:20231120T173536Z
UID:2686-1719360000-1719619199@focmastercalendar.com
SUMMARY:FSNB/UTG/RF Board Meetings
DESCRIPTION:Board Meeting Week \nDetails TBD
URL:https://focmastercalendar.com/event/fsnb-utg-rf-board-meetings-2/
LOCATION:The Ballroom\, 208 North Depot Street\, Stanford\, KY\, 40484\, United States
CATEGORIES:Ballroom,Cerulean Dining Room,HC Boardroom,Lodging
ORGANIZER;CN="Julie Cox":MAILTO:julie@wildernessroadguest.com
END:VEVENT
BEGIN:VEVENT
DTSTART;VALUE=DATE:20240620
DTEND;VALUE=DATE:20240624
DTSTAMP:20260422T235005
CREATED:20240219T184336Z
LAST-MODIFIED:20240219T184336Z
UID:2938-1718841600-1719187199@focmastercalendar.com
SUMMARY:Sisters for Life Retreat
DESCRIPTION:Sisters for Life Retreat \nThursday night – leadership group arrives \nFriday- Sunday is the full group. \nDetails TBD
URL:https://focmastercalendar.com/event/sisters-for-life-retreat/
LOCATION:The Ballroom\, 208 North Depot Street\, Stanford\, KY\, 40484\, United States
CATEGORIES:Ballroom,Cerulean Dining Room,Lodging,St. Asaph Meeting Space
ORGANIZER;CN="Julie Cox":MAILTO:julie@wildernessroadguest.com
END:VEVENT
BEGIN:VEVENT
DTSTART;TZID=America/Kentucky/Monticello:20240523T153000
DTEND;TZID=America/Kentucky/Monticello:20240523T163000
DTSTAMP:20260422T235005
CREATED:20240522T133514Z
LAST-MODIFIED:20240522T133514Z
UID:3024-1716478200-1716481800@focmastercalendar.com
SUMMARY:Ballroom - Prep for Shareholder's meeting
DESCRIPTION:in ballroom \nSuzanne Short is contact
URL:https://focmastercalendar.com/event/ballroom-prep-for-shareholders-meeting/
LOCATION:The Ballroom\, 208 North Depot Street\, Stanford\, KY\, 40484\, United States
CATEGORIES:Ballroom
ORGANIZER;CN="Julie Cox":MAILTO:julie@wildernessroadguest.com
END:VEVENT
BEGIN:VEVENT
DTSTART;VALUE=DATE:20240520
DTEND;VALUE=DATE:20240521
DTSTAMP:20260422T235005
CREATED:20231218T163026Z
LAST-MODIFIED:20240111T210726Z
UID:2863-1716163200-1716249599@focmastercalendar.com
SUMMARY:Intern Orientation Kick-Off (FOC)
DESCRIPTION:Intern Orientation Kick-Off Meeting and Lunch \nBallroom \nDetails TBD \nBrett Elleman – contact
URL:https://focmastercalendar.com/event/intern-orientation-kick-off-foc/
LOCATION:The Ballroom\, 208 North Depot Street\, Stanford\, KY\, 40484\, United States
CATEGORIES:Ballroom,Cerulean Dining Room
ORGANIZER;CN="Julie Cox":MAILTO:julie@wildernessroadguest.com
END:VEVENT
BEGIN:VEVENT
DTSTART;TZID=America/Kentucky/Monticello:20240513T110000
DTEND;TZID=America/Kentucky/Monticello:20240513T130000
DTSTAMP:20260422T235005
CREATED:20240430T151817Z
LAST-MODIFIED:20240430T151817Z
UID:3008-1715598000-1715605200@focmastercalendar.com
SUMMARY:Christ for KY lunch meeting
DESCRIPTION:meeting and lunch in  ballroom \nRobert Cunningham hosting \n6-8 people \n11-1
URL:https://focmastercalendar.com/event/christ-for-ky-lunch-meeting/
LOCATION:The Ballroom\, 208 North Depot Street\, Stanford\, KY\, 40484\, United States
CATEGORIES:Ballroom
ORGANIZER;CN="Julie Cox":MAILTO:julie@wildernessroadguest.com
END:VEVENT
BEGIN:VEVENT
DTSTART;TZID=America/Kentucky/Monticello:20240510T170000
DTEND;TZID=America/Kentucky/Monticello:20240510T230000
DTSTAMP:20260422T235005
CREATED:20240429T151857Z
LAST-MODIFIED:20240429T151857Z
UID:3006-1715360400-1715382000@focmastercalendar.com
SUMMARY:FOC team Member
DESCRIPTION:Ballroom Reserved \nCandice Brown \n5pm-11pm
URL:https://focmastercalendar.com/event/foc-team-member/
LOCATION:The Ballroom\, 208 North Depot Street\, Stanford\, KY\, 40484\, United States
CATEGORIES:Ballroom
ORGANIZER;CN="Julie Cox":MAILTO:julie@wildernessroadguest.com
END:VEVENT
BEGIN:VEVENT
DTSTART;TZID=America/Kentucky/Monticello:20240509T180000
DTEND;TZID=America/Kentucky/Monticello:20240509T220000
DTSTAMP:20260422T235005
CREATED:20240328T180958Z
LAST-MODIFIED:20240328T180958Z
UID:2980-1715277600-1715292000@focmastercalendar.com
SUMMARY:Ethiopian Impact Donor Event
DESCRIPTION:Dinner and Event in Ballroom \nsupporting Ethiopian Impact \n6:00 pm – 9:00 pm
URL:https://focmastercalendar.com/event/ethiopian-impact-donor-event/
LOCATION:The Ballroom\, 208 North Depot Street\, Stanford\, KY\, 40484\, United States
CATEGORIES:Ballroom,Cerulean Dining Room
ORGANIZER;CN="Julie Cox":MAILTO:julie@wildernessroadguest.com
END:VEVENT
BEGIN:VEVENT
DTSTART;TZID=America/Kentucky/Monticello:20240506T140000
DTEND;TZID=America/Kentucky/Monticello:20240506T160000
DTSTAMP:20260422T235005
CREATED:20240419T191411Z
LAST-MODIFIED:20240419T194619Z
UID:2997-1715004000-1715011200@focmastercalendar.com
SUMMARY:Book Study
DESCRIPTION:discussion in The Ballroom \n2-4 pm \n14 people \nCandice Brown is contact
URL:https://focmastercalendar.com/event/book-study/
LOCATION:The Ballroom\, 208 North Depot Street\, Stanford\, KY\, 40484\, United States
CATEGORIES:Ballroom
ORGANIZER;CN="Julie Cox":MAILTO:julie@wildernessroadguest.com
END:VEVENT
BEGIN:VEVENT
DTSTART;TZID=America/Kentucky/Monticello:20240430T100000
DTEND;TZID=America/Kentucky/Monticello:20240430T113000
DTSTAMP:20260422T235005
CREATED:20240414T002539Z
LAST-MODIFIED:20240414T002539Z
UID:2987-1714471200-1714476600@focmastercalendar.com
SUMMARY:Q2 Strategic Check-In
DESCRIPTION:Meeting for FOC \n  \n14 people – u shaped tables
URL:https://focmastercalendar.com/event/q2-strategic-check-in/
LOCATION:The Ballroom\, 208 North Depot Street\, Stanford\, KY\, 40484\, United States
CATEGORIES:Ballroom
ORGANIZER;CN="Julie Cox":MAILTO:julie@wildernessroadguest.com
END:VEVENT
BEGIN:VEVENT
DTSTART;VALUE=DATE:20240423
DTEND;VALUE=DATE:20240425
DTSTAMP:20260422T235005
CREATED:20231218T162643Z
LAST-MODIFIED:20231218T162643Z
UID:2861-1713830400-1714003199@focmastercalendar.com
SUMMARY:7 Habits Training (FOC)
DESCRIPTION:Ballroom – Cerulean \nOutline: \nDay 1 –  BKFST- Meeting – Lunch – Meeting – Dinner (for some) \nDay 2 – BKFST – Meeting – Lunch – Meeting \nMore details TBD \nKara Bastin – contact
URL:https://focmastercalendar.com/event/7-habits-training-foc/
LOCATION:The Ballroom\, 208 North Depot Street\, Stanford\, KY\, 40484\, United States
CATEGORIES:Ballroom,Cerulean Dining Room,Lodging
ORGANIZER;CN="Julie Cox":MAILTO:julie@wildernessroadguest.com
END:VEVENT
BEGIN:VEVENT
DTSTART;VALUE=DATE:20240415
DTEND;VALUE=DATE:20240418
DTSTAMP:20260422T235005
CREATED:20230906T205706Z
LAST-MODIFIED:20231218T164548Z
UID:2723-1713139200-1713398399@focmastercalendar.com
SUMMARY:FSNB Leadership Retreat (FOC)
DESCRIPTION:Details TBD \nmultiple meals\, all housing\, activities
URL:https://focmastercalendar.com/event/fsnb-leadership-retreat/
LOCATION:KY
CATEGORIES:Ballroom,Cerulean Dining Room,Cerulean Dining Room,Food,Lodging,Meeting Space,St. Asaph Meeting Space,Terrace
ORGANIZER;CN="Julie Cox":MAILTO:julie@wildernessroadguest.com
END:VEVENT
BEGIN:VEVENT
DTSTART;VALUE=DATE:20240410
DTEND;VALUE=DATE:20240413
DTSTAMP:20260422T235005
CREATED:20231112T225310Z
LAST-MODIFIED:20231112T225310Z
UID:2819-1712707200-1712966399@focmastercalendar.com
SUMMARY:Wedgewood Investor Summit
DESCRIPTION:Wedgewood Investor Summit \nFull week of meetings\, food\, etc \nDetails TBD \nTerence Berry is contact
URL:https://focmastercalendar.com/event/wedgewood-investor-summit/
LOCATION:The Ballroom\, 208 North Depot Street\, Stanford\, KY\, 40484\, United States
CATEGORIES:Ballroom,Bluebird,Cerulean Dining Room,Cerulean Dining Room,Lodging,Terrace
ORGANIZER;CN="Julie Cox":MAILTO:julie@wildernessroadguest.com
END:VEVENT
BEGIN:VEVENT
DTSTART;TZID=America/Kentucky/Monticello:20240406T150000
DTEND;TZID=America/Kentucky/Monticello:20240406T200000
DTSTAMP:20260422T235005
CREATED:20240402T191938Z
LAST-MODIFIED:20240402T191938Z
UID:2981-1712415600-1712433600@focmastercalendar.com
SUMMARY:FOC Team Member event
DESCRIPTION:in Ballroom \nBrittany Davis \n859-749-2074
URL:https://focmastercalendar.com/event/foc-team-member-event/
LOCATION:The Ballroom\, 208 North Depot Street\, Stanford\, KY\, 40484\, United States
CATEGORIES:Ballroom
ORGANIZER;CN="Julie Cox":MAILTO:julie@wildernessroadguest.com
END:VEVENT
BEGIN:VEVENT
DTSTART;TZID=America/Kentucky/Monticello:20240330T080000
DTEND;TZID=America/Kentucky/Monticello:20240330T170000
DTSTAMP:20260422T235005
CREATED:20240207T135352Z
LAST-MODIFIED:20240301T210409Z
UID:2923-1711785600-1711818000@focmastercalendar.com
SUMMARY:FOC Ballroom Event
DESCRIPTION:wedding shower hosted by Ali Hulett
URL:https://focmastercalendar.com/event/foc-ballroom-event-tentative/
LOCATION:The Ballroom\, 208 North Depot Street\, Stanford\, KY\, 40484\, United States
CATEGORIES:Ballroom
ORGANIZER;CN="Julie Cox":MAILTO:julie@wildernessroadguest.com
END:VEVENT
BEGIN:VEVENT
DTSTART;TZID=America/Kentucky/Monticello:20240328T080000
DTEND;TZID=America/Kentucky/Monticello:20240328T130000
DTSTAMP:20260422T235005
CREATED:20240312T184822Z
LAST-MODIFIED:20240312T184822Z
UID:2964-1711612800-1711630800@focmastercalendar.com
SUMMARY:Tax Protection Plus Board Meeting
DESCRIPTION:Matt Lievens group of 8-10 \nsee event temple for details (Candice is lead contact)
URL:https://focmastercalendar.com/event/tax-protection-plus-board-meeting/
LOCATION:The Ballroom\, 208 North Depot Street\, Stanford\, KY\, 40484\, United States
CATEGORIES:Ballroom,Meeting Space
ORGANIZER;CN="Julie Cox":MAILTO:julie@wildernessroadguest.com
END:VEVENT
BEGIN:VEVENT
DTSTART;VALUE=DATE:20240325
DTEND;VALUE=DATE:20240328
DTSTAMP:20260422T235005
CREATED:20230821T150704Z
LAST-MODIFIED:20230821T150704Z
UID:2685-1711324800-1711583999@focmastercalendar.com
SUMMARY:FSNB/UTG/RF BOARD MEETINGS
DESCRIPTION:Board Meetings \nSchedule as normal \nDetails TBD
URL:https://focmastercalendar.com/event/fsnb-utg-rf-board-meetings/
LOCATION:The Ballroom\, 208 North Depot Street\, Stanford\, KY\, 40484\, United States
CATEGORIES:Ballroom,Cerulean Dining Room,Cerulean Dining Room,HC Boardroom,Lodging
ORGANIZER;CN="Julie Cox":MAILTO:julie@wildernessroadguest.com
END:VEVENT
BEGIN:VEVENT
DTSTART;TZID=America/Kentucky/Monticello:20240321T120000
DTEND;TZID=America/Kentucky/Monticello:20240321T140000
DTSTAMP:20260422T235005
CREATED:20240306T212249Z
LAST-MODIFIED:20240306T212249Z
UID:2959-1711022400-1711029600@focmastercalendar.com
SUMMARY:Correll Family meeting and lunch
DESCRIPTION:Meeting and Lunch in Ballroom \nnoon- 2:00 pm \ndrop off lunch \n 
URL:https://focmastercalendar.com/event/correll-family-meeting-and-lunch/
LOCATION:The Ballroom\, 208 North Depot Street\, Stanford\, KY\, 40484\, United States
CATEGORIES:Ballroom,Cerulean Dining Room
ORGANIZER;CN="Julie Cox":MAILTO:julie@wildernessroadguest.com
END:VEVENT
BEGIN:VEVENT
DTSTART;VALUE=DATE:20240318
DTEND;VALUE=DATE:20240322
DTSTAMP:20260422T235005
CREATED:20231218T162056Z
LAST-MODIFIED:20240305T220306Z
UID:2859-1710720000-1711065599@focmastercalendar.com
SUMMARY:Branch Manager Retreat (FOC)
DESCRIPTION:FSNB branch managers \n3 day retreat \nDetails in Event Temple \n  \nKara Bastin is contact
URL:https://focmastercalendar.com/event/branch-manager-retreat-foc/
LOCATION:The Ballroom\, 208 North Depot Street\, Stanford\, KY\, 40484\, United States
CATEGORIES:Ballroom,Bluebird,Cerulean Dining Room,Lodging,Mama D's,St. Asaph Meeting Space
ORGANIZER;CN="Julie Cox":MAILTO:julie@wildernessroadguest.com
END:VEVENT
BEGIN:VEVENT
DTSTART;VALUE=DATE:20240314
DTEND;VALUE=DATE:20240316
DTSTAMP:20260422T235005
CREATED:20231218T162316Z
LAST-MODIFIED:20231218T162316Z
UID:2860-1710374400-1710547199@focmastercalendar.com
SUMMARY:Emerging Leaders Retreat (FOC)
DESCRIPTION:Ballroom \nDetails – TBD \nKara Bastin and Lanie Gardner are the contacts
URL:https://focmastercalendar.com/event/emerging-leaders-retreat-foc/
LOCATION:The Ballroom\, 208 North Depot Street\, Stanford\, KY\, 40484\, United States
CATEGORIES:Ballroom,Cerulean Dining Room,Lodging
ORGANIZER;CN="Julie Cox":MAILTO:julie@wildernessroadguest.com
END:VEVENT
BEGIN:VEVENT
DTSTART;TZID=America/Kentucky/Monticello:20240313T100000
DTEND;TZID=America/Kentucky/Monticello:20240313T113000
DTSTAMP:20260422T235005
CREATED:20240214T161751Z
LAST-MODIFIED:20240214T161751Z
UID:2925-1710324000-1710329400@focmastercalendar.com
SUMMARY:FOC Book Study
DESCRIPTION:hosted by Daniel Roberts \n10-11:30 am \nBallroom \n“From Good to Great”
URL:https://focmastercalendar.com/event/foc-book-study/
LOCATION:The Ballroom\, 208 North Depot Street\, Stanford\, KY\, 40484\, United States
CATEGORIES:Ballroom
ORGANIZER;CN="Julie Cox":MAILTO:julie@wildernessroadguest.com
END:VEVENT
BEGIN:VEVENT
DTSTART;TZID=America/Kentucky/Monticello:20240312T120000
DTEND;TZID=America/Kentucky/Monticello:20240312T160000
DTSTAMP:20260422T235005
CREATED:20240227T151622Z
LAST-MODIFIED:20240227T173819Z
UID:2945-1710244800-1710259200@focmastercalendar.com
SUMMARY:Kara Bastin - Ballroom usage
DESCRIPTION:Interviews for Deposit Expert
URL:https://focmastercalendar.com/event/kara-bastin-ballroom-usage/
LOCATION:KY
CATEGORIES:Ballroom
ORGANIZER;CN="Julie Cox":MAILTO:julie@wildernessroadguest.com
END:VEVENT
BEGIN:VEVENT
DTSTART;VALUE=DATE:20240309
DTEND;VALUE=DATE:20240310
DTSTAMP:20260422T235005
CREATED:20231024T174450Z
LAST-MODIFIED:20240209T133254Z
UID:2783-1709942400-1710028799@focmastercalendar.com
SUMMARY:Bridal Shower - FOC Ballroom
DESCRIPTION:Brittany Davis / bridal shower.
URL:https://focmastercalendar.com/event/tentative-foc-tm-ballroom-request/
LOCATION:The Ballroom\, 208 North Depot Street\, Stanford\, KY\, 40484\, United States
CATEGORIES:Ballroom
END:VEVENT
BEGIN:VEVENT
DTSTART;TZID=America/Kentucky/Monticello:20240306T100000
DTEND;TZID=America/Kentucky/Monticello:20240306T130000
DTSTAMP:20260422T235005
CREATED:20240227T151724Z
LAST-MODIFIED:20240227T151724Z
UID:2946-1709719200-1709730000@focmastercalendar.com
SUMMARY:Kara Bastin - Ballroom Usage
DESCRIPTION:No needs\, just need the Ballroom. 10am-1pm
URL:https://focmastercalendar.com/event/kara-bastin-ballroom-usage-2/
LOCATION:KY
CATEGORIES:Ballroom
ORGANIZER;CN="Julie Cox":MAILTO:julie@wildernessroadguest.com
END:VEVENT
END:VCALENDAR