BEGIN:VCALENDAR
VERSION:2.0
PRODID:-//Master Calendar - ECPv6.8.1//NONSGML v1.0//EN
CALSCALE:GREGORIAN
METHOD:PUBLISH
X-ORIGINAL-URL:https://focmastercalendar.com
X-WR-CALDESC:Events for Master Calendar
REFRESH-INTERVAL;VALUE=DURATION:PT1H
X-Robots-Tag:noindex
X-PUBLISHED-TTL:PT1H
BEGIN:VTIMEZONE
TZID:America/Kentucky/Monticello
BEGIN:DAYLIGHT
TZOFFSETFROM:-0500
TZOFFSETTO:-0400
TZNAME:EDT
DTSTART:20240310T070000
END:DAYLIGHT
BEGIN:STANDARD
TZOFFSETFROM:-0400
TZOFFSETTO:-0500
TZNAME:EST
DTSTART:20241103T060000
END:STANDARD
END:VTIMEZONE
BEGIN:VEVENT
DTSTART;TZID=America/Kentucky/Monticello:20240306T100000
DTEND;TZID=America/Kentucky/Monticello:20240306T130000
DTSTAMP:20260425T135440
CREATED:20240227T151724Z
LAST-MODIFIED:20240227T151724Z
UID:2946-1709719200-1709730000@focmastercalendar.com
SUMMARY:Kara Bastin - Ballroom Usage
DESCRIPTION:No needs\, just need the Ballroom. 10am-1pm
URL:https://focmastercalendar.com/event/kara-bastin-ballroom-usage-2/
LOCATION:KY
CATEGORIES:Ballroom
ORGANIZER;CN="Julie Cox":MAILTO:julie@wildernessroadguest.com
END:VEVENT
BEGIN:VEVENT
DTSTART;VALUE=DATE:20240309
DTEND;VALUE=DATE:20240310
DTSTAMP:20260425T135440
CREATED:20231024T174450Z
LAST-MODIFIED:20240209T133254Z
UID:2783-1709942400-1710028799@focmastercalendar.com
SUMMARY:Bridal Shower - FOC Ballroom
DESCRIPTION:Brittany Davis / bridal shower.
URL:https://focmastercalendar.com/event/tentative-foc-tm-ballroom-request/
LOCATION:The Ballroom\, 208 North Depot Street\, Stanford\, KY\, 40484\, United States
CATEGORIES:Ballroom
END:VEVENT
BEGIN:VEVENT
DTSTART;TZID=America/Kentucky/Monticello:20240312T120000
DTEND;TZID=America/Kentucky/Monticello:20240312T160000
DTSTAMP:20260425T135440
CREATED:20240227T151622Z
LAST-MODIFIED:20240227T173819Z
UID:2945-1710244800-1710259200@focmastercalendar.com
SUMMARY:Kara Bastin - Ballroom usage
DESCRIPTION:Interviews for Deposit Expert
URL:https://focmastercalendar.com/event/kara-bastin-ballroom-usage/
LOCATION:KY
CATEGORIES:Ballroom
ORGANIZER;CN="Julie Cox":MAILTO:julie@wildernessroadguest.com
END:VEVENT
BEGIN:VEVENT
DTSTART;TZID=America/Kentucky/Monticello:20240313T100000
DTEND;TZID=America/Kentucky/Monticello:20240313T113000
DTSTAMP:20260425T135440
CREATED:20240214T161751Z
LAST-MODIFIED:20240214T161751Z
UID:2925-1710324000-1710329400@focmastercalendar.com
SUMMARY:FOC Book Study
DESCRIPTION:hosted by Daniel Roberts \n10-11:30 am \nBallroom \n“From Good to Great”
URL:https://focmastercalendar.com/event/foc-book-study/
LOCATION:The Ballroom\, 208 North Depot Street\, Stanford\, KY\, 40484\, United States
CATEGORIES:Ballroom
ORGANIZER;CN="Julie Cox":MAILTO:julie@wildernessroadguest.com
END:VEVENT
BEGIN:VEVENT
DTSTART;VALUE=DATE:20240314
DTEND;VALUE=DATE:20240316
DTSTAMP:20260425T135440
CREATED:20231218T162316Z
LAST-MODIFIED:20231218T162316Z
UID:2860-1710374400-1710547199@focmastercalendar.com
SUMMARY:Emerging Leaders Retreat (FOC)
DESCRIPTION:Ballroom \nDetails – TBD \nKara Bastin and Lanie Gardner are the contacts
URL:https://focmastercalendar.com/event/emerging-leaders-retreat-foc/
LOCATION:The Ballroom\, 208 North Depot Street\, Stanford\, KY\, 40484\, United States
CATEGORIES:Ballroom,Cerulean Dining Room,Lodging
ORGANIZER;CN="Julie Cox":MAILTO:julie@wildernessroadguest.com
END:VEVENT
BEGIN:VEVENT
DTSTART;VALUE=DATE:20240318
DTEND;VALUE=DATE:20240322
DTSTAMP:20260425T135440
CREATED:20231218T162056Z
LAST-MODIFIED:20240305T220306Z
UID:2859-1710720000-1711065599@focmastercalendar.com
SUMMARY:Branch Manager Retreat (FOC)
DESCRIPTION:FSNB branch managers \n3 day retreat \nDetails in Event Temple \n  \nKara Bastin is contact
URL:https://focmastercalendar.com/event/branch-manager-retreat-foc/
LOCATION:The Ballroom\, 208 North Depot Street\, Stanford\, KY\, 40484\, United States
CATEGORIES:Ballroom,Bluebird,Cerulean Dining Room,Lodging,Mama D's,St. Asaph Meeting Space
ORGANIZER;CN="Julie Cox":MAILTO:julie@wildernessroadguest.com
END:VEVENT
BEGIN:VEVENT
DTSTART;TZID=America/Kentucky/Monticello:20240321T120000
DTEND;TZID=America/Kentucky/Monticello:20240321T140000
DTSTAMP:20260425T135440
CREATED:20240306T212249Z
LAST-MODIFIED:20240306T212249Z
UID:2959-1711022400-1711029600@focmastercalendar.com
SUMMARY:Correll Family meeting and lunch
DESCRIPTION:Meeting and Lunch in Ballroom \nnoon- 2:00 pm \ndrop off lunch \n 
URL:https://focmastercalendar.com/event/correll-family-meeting-and-lunch/
LOCATION:The Ballroom\, 208 North Depot Street\, Stanford\, KY\, 40484\, United States
CATEGORIES:Ballroom,Cerulean Dining Room
ORGANIZER;CN="Julie Cox":MAILTO:julie@wildernessroadguest.com
END:VEVENT
BEGIN:VEVENT
DTSTART;VALUE=DATE:20240325
DTEND;VALUE=DATE:20240328
DTSTAMP:20260425T135440
CREATED:20230821T150704Z
LAST-MODIFIED:20230821T150704Z
UID:2685-1711324800-1711583999@focmastercalendar.com
SUMMARY:FSNB/UTG/RF BOARD MEETINGS
DESCRIPTION:Board Meetings \nSchedule as normal \nDetails TBD
URL:https://focmastercalendar.com/event/fsnb-utg-rf-board-meetings/
LOCATION:The Ballroom\, 208 North Depot Street\, Stanford\, KY\, 40484\, United States
CATEGORIES:Ballroom,Cerulean Dining Room,Cerulean Dining Room,HC Boardroom,Lodging
ORGANIZER;CN="Julie Cox":MAILTO:julie@wildernessroadguest.com
END:VEVENT
BEGIN:VEVENT
DTSTART;TZID=America/Kentucky/Monticello:20240328T080000
DTEND;TZID=America/Kentucky/Monticello:20240328T130000
DTSTAMP:20260425T135440
CREATED:20240312T184822Z
LAST-MODIFIED:20240312T184822Z
UID:2964-1711612800-1711630800@focmastercalendar.com
SUMMARY:Tax Protection Plus Board Meeting
DESCRIPTION:Matt Lievens group of 8-10 \nsee event temple for details (Candice is lead contact)
URL:https://focmastercalendar.com/event/tax-protection-plus-board-meeting/
LOCATION:The Ballroom\, 208 North Depot Street\, Stanford\, KY\, 40484\, United States
CATEGORIES:Ballroom,Meeting Space
ORGANIZER;CN="Julie Cox":MAILTO:julie@wildernessroadguest.com
END:VEVENT
BEGIN:VEVENT
DTSTART;TZID=America/Kentucky/Monticello:20240330T080000
DTEND;TZID=America/Kentucky/Monticello:20240330T170000
DTSTAMP:20260425T135440
CREATED:20240207T135352Z
LAST-MODIFIED:20240301T210409Z
UID:2923-1711785600-1711818000@focmastercalendar.com
SUMMARY:FOC Ballroom Event
DESCRIPTION:wedding shower hosted by Ali Hulett
URL:https://focmastercalendar.com/event/foc-ballroom-event-tentative/
LOCATION:The Ballroom\, 208 North Depot Street\, Stanford\, KY\, 40484\, United States
CATEGORIES:Ballroom
ORGANIZER;CN="Julie Cox":MAILTO:julie@wildernessroadguest.com
END:VEVENT
END:VCALENDAR