BEGIN:VCALENDAR
VERSION:2.0
PRODID:-//Master Calendar - ECPv6.8.1//NONSGML v1.0//EN
CALSCALE:GREGORIAN
METHOD:PUBLISH
X-ORIGINAL-URL:https://focmastercalendar.com
X-WR-CALDESC:Events for Master Calendar
REFRESH-INTERVAL;VALUE=DURATION:PT1H
X-Robots-Tag:noindex
X-PUBLISHED-TTL:PT1H
BEGIN:VTIMEZONE
TZID:America/Kentucky/Monticello
BEGIN:DAYLIGHT
TZOFFSETFROM:-0500
TZOFFSETTO:-0400
TZNAME:EDT
DTSTART:20230312T070000
END:DAYLIGHT
BEGIN:STANDARD
TZOFFSETFROM:-0400
TZOFFSETTO:-0500
TZNAME:EST
DTSTART:20231105T060000
END:STANDARD
END:VTIMEZONE
BEGIN:VEVENT
DTSTART;VALUE=DATE:20230805
DTEND;VALUE=DATE:20230806
DTSTAMP:20260419T155931
CREATED:20230505T170155Z
LAST-MODIFIED:20230505T170211Z
UID:2563-1691193600-1691279999@focmastercalendar.com
SUMMARY:Cerulean Event
DESCRIPTION:Dinner Party \nDetails TBD \njulie cox – contact
URL:https://focmastercalendar.com/event/cerulean-event/
LOCATION:Cerulean\, 202 West Main Street\, Stanford\, KY\, 40484\, United States
CATEGORIES:Cerulean Dining Room
ORGANIZER;CN="Julie Cox":MAILTO:julie@wildernessroadguest.com
END:VEVENT
BEGIN:VEVENT
DTSTART;TZID=America/Kentucky/Monticello:20230801T080000
DTEND;TZID=America/Kentucky/Monticello:20230801T170000
DTSTAMP:20260419T155931
CREATED:20230516T174550Z
LAST-MODIFIED:20230516T174550Z
UID:2582-1690876800-1690909200@focmastercalendar.com
SUMMARY:Ballroom- Centre College Student Life Retreat
DESCRIPTION:Student LIfe Staff retreat.. \nMeeting in The Ballroom \nLunch by Cerulean \nfinal details tbd \nAnita Bertram is contact  anita.bertram@centre.edu
URL:https://focmastercalendar.com/event/ballroom-centre-college-student-life-retreat/
LOCATION:The Ballroom\, 208 North Depot Street\, Stanford\, KY\, 40484\, United States
CATEGORIES:Ballroom,Cerulean Dining Room
ORGANIZER;CN="Julie Cox":MAILTO:julie@wildernessroadguest.com
END:VEVENT
BEGIN:VEVENT
DTSTART;TZID=America/Kentucky/Monticello:20230729T140000
DTEND;TZID=America/Kentucky/Monticello:20230730T170000
DTSTAMP:20260419T155931
CREATED:20230614T175618Z
LAST-MODIFIED:20230614T175618Z
UID:2637-1690639200-1690736400@focmastercalendar.com
SUMMARY:Taylor Made Retreat
DESCRIPTION:Meeting in St. Asaph on Sat starting at 2pm \ndinner – TBD \nMeeting in St. Asaph on Sunday \nLodging in the Stanford Inn \nFinal details TBD
URL:https://focmastercalendar.com/event/taylor-made-retreat-2/
LOCATION:St. Asaph Meeting Space\, 207 West Main Street\, Stanford\, KY\, 40484\, United States
CATEGORIES:Bluebird,Cerulean Dining Room,Lodging,St. Asaph Meeting Space
ORGANIZER;CN="Julie Cox":MAILTO:julie@wildernessroadguest.com
END:VEVENT
BEGIN:VEVENT
DTSTART;TZID=America/Kentucky/Monticello:20230728T150000
DTEND;TZID=America/Kentucky/Monticello:20230729T120000
DTSTAMP:20260419T155931
CREATED:20230516T145545Z
LAST-MODIFIED:20230613T184816Z
UID:2579-1690556400-1690632000@focmastercalendar.com
SUMMARY:JOG
DESCRIPTION:RF JOG \nFriday- 3pm in St. Asaph –  dinner at 6:15 – Bluebird \nSaturday – Bkfst in bluebird at 7:30  –  Boxed lunches from Cerulean \nMeetings in St. Asaph \n 
URL:https://focmastercalendar.com/event/jog-5/
LOCATION:St. Asaph Meeting Space\, 207 West Main Street\, Stanford\, KY\, 40484\, United States
CATEGORIES:Bluebird,Cerulean Dining Room,St. Asaph Meeting Space
ORGANIZER;CN="Julie Cox":MAILTO:julie@wildernessroadguest.com
END:VEVENT
BEGIN:VEVENT
DTSTART;VALUE=DATE:20230718
DTEND;VALUE=DATE:20230720
DTSTAMP:20260419T155931
CREATED:20221215T160602Z
LAST-MODIFIED:20230412T213931Z
UID:2359-1689638400-1689811199@focmastercalendar.com
SUMMARY:Culture Orientation
DESCRIPTION:Culture Orientation Training – in St. Asaph Meeting Room \n\nAsaph Meeting room\, Cerulean for meals\nBlock all rooms and one cottage for Brett and Kara if possible.\nBreakfast\, lunch\, and dinner on day 1\nBreakfast and lunch on day 2\n\nKara Bastin – contact \nStarts at 8 am –  ends on second day around 2 pm
URL:https://focmastercalendar.com/event/culture-orientation-5/
LOCATION:St. Asaph Meeting Space\, 207 West Main Street\, Stanford\, KY\, 40484\, United States
CATEGORIES:Cerulean Dining Room,Cerulean Dining Room,Lodging
ORGANIZER;CN="Julie Cox":MAILTO:julie@wildernessroadguest.com
END:VEVENT
BEGIN:VEVENT
DTSTART;TZID=America/Kentucky/Monticello:20230713T170000
DTEND;TZID=America/Kentucky/Monticello:20230713T200000
DTSTAMP:20260419T155931
CREATED:20230712T161344Z
LAST-MODIFIED:20230712T161344Z
UID:2656-1689267600-1689278400@focmastercalendar.com
SUMMARY:Bluegrass & BBQ
DESCRIPTION:Pop-Up Dinner experience on the Terrace! \nBluegrass Band and BBQ \npay for meals /drinks on terrace \nHosted by Cerulean!
URL:https://focmastercalendar.com/event/bluegrass-bbq/
LOCATION:The Terrace\, 208 North Depot Street\, Stanford\, KY\, 40484\, United States
CATEGORIES:Cerulean Dining Room,Terrace
ORGANIZER;CN="Julie Cox":MAILTO:julie@wildernessroadguest.com
END:VEVENT
BEGIN:VEVENT
DTSTART;TZID=America/Kentucky/Monticello:20230713T120000
DTEND;TZID=America/Kentucky/Monticello:20230713T140000
DTSTAMP:20260419T155931
CREATED:20230125T213944Z
LAST-MODIFIED:20230125T213944Z
UID:2431-1689249600-1689256800@focmastercalendar.com
SUMMARY:Intern Monthly Luncheon
DESCRIPTION:Intern Luncheon in Cerulean – Noon \n  \nContact:  Brett Elleman  – 859-339-8149
URL:https://focmastercalendar.com/event/intern-monthly-luncheon/
LOCATION:Cerulean\, 202 West Main Street\, Stanford\, KY\, 40484\, United States
CATEGORIES:Cerulean Dining Room
ORGANIZER;CN="Julie Cox":MAILTO:julie@wildernessroadguest.com
END:VEVENT
BEGIN:VEVENT
DTSTART;VALUE=DATE:20230617
DTEND;VALUE=DATE:20230618
DTSTAMP:20260419T155931
CREATED:20230405T202507Z
LAST-MODIFIED:20230405T202507Z
UID:2542-1686960000-1687046399@focmastercalendar.com
SUMMARY:Ballroom reserved
DESCRIPTION:Gabby Crall Reception \n5:30 start 6:00 dinner \nDetails TBD \nCerulean \n 
URL:https://focmastercalendar.com/event/ballroom-reserved-6/
LOCATION:The Ballroom\, 208 North Depot Street\, Stanford\, KY\, 40484\, United States
CATEGORIES:Ballroom,Cerulean Dining Room
ORGANIZER;CN="Julie Cox":MAILTO:julie@wildernessroadguest.com
END:VEVENT
BEGIN:VEVENT
DTSTART;TZID=America/Kentucky/Monticello:20230615T150000
DTEND;TZID=America/Kentucky/Monticello:20230616T120000
DTSTAMP:20260419T155931
CREATED:20230125T213654Z
LAST-MODIFIED:20230531T144003Z
UID:2429-1686841200-1686916800@focmastercalendar.com
SUMMARY:JOG for Interns
DESCRIPTION:RF will host a JOG for the Summer Interns \nProgram begins at 3:00 pm with overnight then ends by noon on 2nd day. \nDinner at Cerulean on June 15 at 6:15 pm \nBreakfast in Bluebird on June 16 at 7:30 am \nBox lunch at noon \nMeetings in St. Asaph. \nContact:  Brett Elleman  859-339-8149
URL:https://focmastercalendar.com/event/jog-for-interns/
LOCATION:St. Asaph Meeting Space\, 207 West Main Street\, Stanford\, KY\, 40484\, United States
CATEGORIES:Bluebird,Cerulean Dining Room,Lodging,St. Asaph Meeting Space
ORGANIZER;CN="Julie Cox":MAILTO:julie@wildernessroadguest.com
END:VEVENT
BEGIN:VEVENT
DTSTART;TZID=America/Kentucky/Monticello:20230615T120000
DTEND;TZID=America/Kentucky/Monticello:20230615T133000
DTSTAMP:20260419T155931
CREATED:20221220T165615Z
LAST-MODIFIED:20230531T182118Z
UID:2379-1686830400-1686835800@focmastercalendar.com
SUMMARY:Intern Luncheon
DESCRIPTION:Interns have Lunch with Ted Miller – discussing financial literacy \nCerulean – NOON \nTaco Bar w/ sides and cookies
URL:https://focmastercalendar.com/event/intern-luncheon/
LOCATION:Cerulean\, 202 West Main Street\, Stanford\, KY\, 40484\, United States
CATEGORIES:Cerulean Dining Room,Cerulean Dining Room
ORGANIZER;CN="Julie Cox":MAILTO:julie@wildernessroadguest.com
END:VEVENT
BEGIN:VEVENT
DTSTART;VALUE=DATE:20230608
DTEND;VALUE=DATE:20230610
DTSTAMP:20260419T155931
CREATED:20230523T005429Z
LAST-MODIFIED:20230523T005429Z
UID:2595-1686182400-1686355199@focmastercalendar.com
SUMMARY:cerulean unavailable
DESCRIPTION:Days after Board meeting needed for regroup and reset for the staff
URL:https://focmastercalendar.com/event/cerulean-unavailable-6/
LOCATION:Cerulean\, 202 West Main Street\, Stanford\, KY\, 40484\, United States
CATEGORIES:Cerulean Dining Room
ORGANIZER;CN="Julie Cox":MAILTO:julie@wildernessroadguest.com
END:VEVENT
BEGIN:VEVENT
DTSTART;VALUE=DATE:20230605
DTEND;VALUE=DATE:20230608
DTSTAMP:20260419T155931
CREATED:20220829T183948Z
LAST-MODIFIED:20220829T183948Z
UID:2212-1685923200-1686182399@focmastercalendar.com
SUMMARY:BOARD MEETINGS
DESCRIPTION:Details forthcoming
URL:https://focmastercalendar.com/event/board-meetings-12/
LOCATION:The Ballroom\, 208 North Depot Street\, Stanford\, KY\, 40484\, United States
CATEGORIES:Ballroom,Cerulean Dining Room,Cerulean Dining Room,HC Boardroom,Lodging,St. Asaph Meeting Space,Terrace
ORGANIZER;CN="Julie Cox":MAILTO:julie@wildernessroadguest.com
END:VEVENT
BEGIN:VEVENT
DTSTART;TZID=America/Kentucky/Monticello:20230602T183000
DTEND;TZID=America/Kentucky/Monticello:20230602T200000
DTSTAMP:20260419T155931
CREATED:20230328T203209Z
LAST-MODIFIED:20230523T163433Z
UID:2538-1685730600-1685736000@focmastercalendar.com
SUMMARY:Cerulean Dinner
DESCRIPTION:Jennifer Abbott – Rehearsal dinner for Son \n812-571-0150 \n  \nthe wedding is at Warrenwood Manor in danville.  they actually have some people staying in the inn over that weekend.
URL:https://focmastercalendar.com/event/cerulean-dinner/
LOCATION:Cerulean\, 202 West Main Street\, Stanford\, KY\, 40484\, United States
CATEGORIES:Cerulean Dining Room
ORGANIZER;CN="Julie Cox":MAILTO:julie@wildernessroadguest.com
END:VEVENT
BEGIN:VEVENT
DTSTART;TZID=America/Kentucky/Monticello:20230530T093000
DTEND;TZID=America/Kentucky/Monticello:20230530T160000
DTSTAMP:20260419T155931
CREATED:20230427T144250Z
LAST-MODIFIED:20230523T014859Z
UID:2557-1685439000-1685462400@focmastercalendar.com
SUMMARY:Christ for KY(CFK) Strategy Meeting
DESCRIPTION:Hosted by Robert Cunningham \nBallroom -9:30-4 \n10 people –  Possible lunch \nCoffee Service for the morning \n 
URL:https://focmastercalendar.com/event/christ-for-kycfk-strategy-meeting/
LOCATION:The Ballroom\, 208 North Depot Street\, Stanford\, KY\, 40484\, United States
CATEGORIES:Ballroom,Cerulean Dining Room
ORGANIZER;CN="Julie Cox":MAILTO:julie@wildernessroadguest.com
END:VEVENT
BEGIN:VEVENT
DTSTART;TZID=America/Kentucky/Monticello:20230519T120000
DTEND;TZID=America/Kentucky/Monticello:20230519T133000
DTSTAMP:20260419T155931
CREATED:20230509T144731Z
LAST-MODIFIED:20230509T144731Z
UID:2569-1684497600-1684503000@focmastercalendar.com
SUMMARY:Pitman Creek Lunch
DESCRIPTION:Lunch in Cerulean \nnoon- \nDetails TBD
URL:https://focmastercalendar.com/event/pitman-creek-lunch/
LOCATION:Cerulean\, 202 West Main Street\, Stanford\, KY\, 40484\, United States
CATEGORIES:Cerulean Dining Room,Cerulean Dining Room
ORGANIZER;CN="Julie Cox":MAILTO:julie@wildernessroadguest.com
END:VEVENT
BEGIN:VEVENT
DTSTART;TZID=America/Kentucky/Monticello:20230515T180000
DTEND;TZID=America/Kentucky/Monticello:20230516T160000
DTSTAMP:20260419T155931
CREATED:20230125T203134Z
LAST-MODIFIED:20230509T162914Z
UID:2411-1684173600-1684252800@focmastercalendar.com
SUMMARY:INTERN Orientation
DESCRIPTION:Welcome Dinner on Terrace on Monday night – 6 pm  – 25-30 people \nBallroom for Tuesday \nOrientation for 2023 Internship -Tuesday – 8:30 – 4:00 \nBreakfast in ballroom 9 am \nLunch in Cerulean – noon \n  \n  \nBrett Elleman – contact 859-339-8149
URL:https://focmastercalendar.com/event/intern-orientation/
LOCATION:The Ballroom\, 208 North Depot Street\, Stanford\, KY\, 40484\, United States
CATEGORIES:Ballroom,Cerulean Dining Room,Lodging,Mama D's
ORGANIZER;CN="Julie Cox":MAILTO:julie@wildernessroadguest.com
END:VEVENT
BEGIN:VEVENT
DTSTART;TZID=America/Kentucky/Monticello:20230506T110000
DTEND;TZID=America/Kentucky/Monticello:20230506T130000
DTSTAMP:20260419T155931
CREATED:20230321T022033Z
LAST-MODIFIED:20230321T022033Z
UID:2520-1683370800-1683378000@focmastercalendar.com
SUMMARY:Derby Brunch
DESCRIPTION:In partnernship with William Whitley House Endowment \n11-1 Brunch \nBook Signing \n 
URL:https://focmastercalendar.com/event/derby-brunch/
LOCATION:The Ballroom\, 208 North Depot Street\, Stanford\, KY\, 40484\, United States
CATEGORIES:Ballroom,Cerulean Dining Room
END:VEVENT
BEGIN:VEVENT
DTSTART;TZID=America/Kentucky/Monticello:20230429T083000
DTEND;TZID=America/Kentucky/Monticello:20230429T120000
DTSTAMP:20260419T155931
CREATED:20230419T114940Z
LAST-MODIFIED:20230419T115054Z
UID:2552-1682757000-1682769600@focmastercalendar.com
SUMMARY:Private Spa Event
DESCRIPTION:Lacy Rex and friends reserving the spa from 8:30-12 \nCerulean will cater charcuterie board and champagne – 4 people
URL:https://focmastercalendar.com/event/private-spa-event/
CATEGORIES:Cerulean Dining Room
ORGANIZER;CN="Julie Cox":MAILTO:julie@wildernessroadguest.com
END:VEVENT
BEGIN:VEVENT
DTSTART;VALUE=DATE:20230424
DTEND;VALUE=DATE:20230427
DTSTAMP:20260419T155931
CREATED:20221220T155511Z
LAST-MODIFIED:20230412T214034Z
UID:2375-1682294400-1682553599@focmastercalendar.com
SUMMARY:Wedgewood Investment Group
DESCRIPTION:Terence Berry is contact – \n310-709-3244 \nMon Apr 24\, 2023 @ 6:00 PM – 6:45 PM Opening Reception St. Asaph Meeting Space\nMon Apr 24\, 2023 @ 7:00 PM – 9:00 PM Opening Dinner Cerulean\nMon Apr 24\, 2023 @ 9:00 PM – 10:00 PM Bourbon Conversations Terrace \nTue Apr 25\, 2023 @ 8:00 AM – 9:30 AM Breakfast #1 Buffet \nTue Apr 25\, 2023 @ 9:45 AM – 12:00 PM Morning Sessions: Successful Investing Ballroom\nTue Apr 25\, 2023 @ 12:30 PM – 1:30 PM Lunch #1 Cerulean\nTue Apr 25\, 2023 @ 1:45 PM – 4:00 PM Afternoon Session: Ballroom\nTue Apr 25\, 2023 @ 6:00 PM – 9:00 PM Reception & Dinner at Correll Farm \n 
URL:https://focmastercalendar.com/event/wedgewood-investment-group/
LOCATION:The Ballroom\, 208 North Depot Street\, Stanford\, KY\, 40484\, United States
CATEGORIES:Ballroom,Bluebird,Cerulean Dining Room,Lodging,Mama D's,St. Asaph Meeting Space
ORGANIZER;CN="Julie Cox":MAILTO:julie@wildernessroadguest.com
END:VEVENT
BEGIN:VEVENT
DTSTART;TZID=America/Kentucky/Monticello:20230413T190000
DTEND;TZID=America/Kentucky/Monticello:20230416T110000
DTSTAMP:20260419T155931
CREATED:20221220T155342Z
LAST-MODIFIED:20230327T205045Z
UID:2374-1681412400-1681642800@focmastercalendar.com
SUMMARY:PBEX leadership retreat
DESCRIPTION:arrive on Thursday night –  (all activities and food -on their own) \nFriday –  day at Keeneland –  breakfast in Cerulean at 7:30 \nSaturday –  Breakfast in Cerulean at 7:30;   spa services; distillery tour at Makers’ Mark & Wilderness Trail at 2:00 –  dinner at Corrells Farm \nSunday – Breakfast in Cerulean.  departure \n 
URL:https://focmastercalendar.com/event/pbex-leadership-retreat/
LOCATION:The Ballroom\, 208 North Depot Street\, Stanford\, KY\, 40484\, United States
CATEGORIES:Ballroom,Bluebird,Cerulean Dining Room,Lodging,St. Asaph Meeting Space,Terrace
ORGANIZER;CN="Julie Cox":MAILTO:julie@wildernessroadguest.com
END:VEVENT
BEGIN:VEVENT
DTSTART;VALUE=DATE:20230411
DTEND;VALUE=DATE:20230413
DTSTAMP:20260419T155931
CREATED:20221215T161243Z
LAST-MODIFIED:20221215T161243Z
UID:2361-1681171200-1681343999@focmastercalendar.com
SUMMARY:7 Habits Training
DESCRIPTION:Ballroom\nHousing needed for up to 25- Can share cottages\nBreakfast\, Lunch and Dinner Day 1\nBreakfast and Lunch on day 2\n\nKara Bastin- Contact
URL:https://focmastercalendar.com/event/7-habits-training/
LOCATION:The Ballroom\, 208 North Depot Street\, Stanford\, KY\, 40484\, United States
CATEGORIES:Ballroom,Cerulean Dining Room,Lodging
ORGANIZER;CN="Julie Cox":MAILTO:julie@wildernessroadguest.com
END:VEVENT
BEGIN:VEVENT
DTSTART;TZID=America/Kentucky/Monticello:20230406T100000
DTEND;TZID=America/Kentucky/Monticello:20230406T143000
DTSTAMP:20260419T155931
CREATED:20230131T212703Z
LAST-MODIFIED:20230403T195545Z
UID:2445-1680775200-1680791400@focmastercalendar.com
SUMMARY:BANK Leadership Meeting
DESCRIPTION:Ballroom Reserved for Leadership Meeting \nMitch Barnhardt is guest speaker 10-2 \nLunch at noon in Ballroom \n# of people  -45 \nLanie Gardner – CONTACT \nSee invitation: 
URL:https://focmastercalendar.com/event/bank-leadership-meeting-2/
LOCATION:The Ballroom\, 208 North Depot Street\, Stanford\, KY\, 40484\, United States
CATEGORIES:Ballroom,Cerulean Dining Room,Food
ORGANIZER;CN="Julie Cox":MAILTO:julie@wildernessroadguest.com
END:VEVENT
BEGIN:VEVENT
DTSTART;VALUE=DATE:20230323
DTEND;VALUE=DATE:20230324
DTSTAMP:20260419T155931
CREATED:20230203T161649Z
LAST-MODIFIED:20230203T161649Z
UID:2448-1679529600-1679615999@focmastercalendar.com
SUMMARY:Cerulean Unavailable
DESCRIPTION:day after Board Week’- Cerulean uses this day to reset and recoup from Board meeting week
URL:https://focmastercalendar.com/event/cerulean-unavailable-3/
CATEGORIES:Cerulean Dining Room,Cerulean Dining Room
ORGANIZER;CN="Julie Cox":MAILTO:julie@wildernessroadguest.com
END:VEVENT
BEGIN:VEVENT
DTSTART;VALUE=DATE:20230320
DTEND;VALUE=DATE:20230323
DTSTAMP:20260419T155931
CREATED:20220829T183819Z
LAST-MODIFIED:20220829T183819Z
UID:2211-1679270400-1679529599@focmastercalendar.com
SUMMARY:BOARD MEETINGS
DESCRIPTION:Details Forthcoming
URL:https://focmastercalendar.com/event/board-meetings-11/
LOCATION:The Ballroom\, 208 North Depot Street\, Stanford\, KY\, 40484\, United States
CATEGORIES:Ballroom,Cerulean Dining Room,Cerulean Dining Room,HC Boardroom,Lodging,St. Asaph Meeting Space,Terrace
ORGANIZER;CN="Julie Cox":MAILTO:julie@wildernessroadguest.com
END:VEVENT
BEGIN:VEVENT
DTSTART;VALUE=DATE:20230314
DTEND;VALUE=DATE:20230316
DTSTAMP:20260419T155931
CREATED:20221211T204417Z
LAST-MODIFIED:20230306T200928Z
UID:2342-1678752000-1678924799@focmastercalendar.com
SUMMARY:Founding Principles RETREAT
DESCRIPTION:Founding Principles Training \nstarts Noon on Tuesday – ends at 2:oo pm on Wednesday. \nLunch in Cerulean both days \nMeeting in Ballroom \n20 people \nAGENDA:  Founding Principles 2023 Retreat The Heart_ \nKara Bastin- contact
URL:https://focmastercalendar.com/event/founding-principles-retreat/
LOCATION:The Ballroom\, 208 North Depot Street\, Stanford\, KY\, 40484\, United States
CATEGORIES:Ballroom,Cerulean Dining Room
ORGANIZER;CN="Julie Cox":MAILTO:julie@wildernessroadguest.com
END:VEVENT
BEGIN:VEVENT
DTSTART;TZID=America/Kentucky/Monticello:20230308T080000
DTEND;TZID=America/Kentucky/Monticello:20230308T170000
DTSTAMP:20260419T155931
CREATED:20230123T204315Z
LAST-MODIFIED:20230306T200706Z
UID:2410-1678262400-1678294800@focmastercalendar.com
SUMMARY:Emerging Leaders
DESCRIPTION:Meetings in Ballroom on March 8 –  breakfast in ballroom at 8 am \nLunch in Ballroom at Noon – 22 people \nArrive late On March 7 for overnight \nAGENDA:  Emerging Leaders Agenda 03-2023 \n14 people in leadership group \nContact:  Lanier Gardner 270-543-4242
URL:https://focmastercalendar.com/event/emerging-leaders/
LOCATION:The Ballroom\, 208 North Depot Street\, Stanford\, KY\, 40484\, United States
CATEGORIES:Ballroom,Cerulean Dining Room,Lodging
ORGANIZER;CN="Julie Cox":MAILTO:julie@wildernessroadguest.com
END:VEVENT
BEGIN:VEVENT
DTSTART;TZID=America/Kentucky/Monticello:20230306T120000
DTEND;TZID=America/Kentucky/Monticello:20230306T153000
DTSTAMP:20260419T155931
CREATED:20230228T152128Z
LAST-MODIFIED:20230228T182636Z
UID:2499-1678104000-1678116600@focmastercalendar.com
SUMMARY:Correll Family LUNCH & Meeting
DESCRIPTION:in Cerulean – 15 people – noon \nMeeting in Ballroom – 1-3:30 \n 
URL:https://focmastercalendar.com/event/correll-family-lunch/
LOCATION:Cerulean\, 202 West Main Street\, Stanford\, KY\, 40484\, United States
CATEGORIES:Ballroom,Cerulean Dining Room,Cerulean Dining Room
ORGANIZER;CN="Julie Cox":MAILTO:julie@wildernessroadguest.com
END:VEVENT
BEGIN:VEVENT
DTSTART;TZID=America/Kentucky/Monticello:20230217T150000
DTEND;TZID=America/Kentucky/Monticello:20230218T120000
DTSTAMP:20260419T155931
CREATED:20230113T183122Z
LAST-MODIFIED:20230206T231250Z
UID:2400-1676646000-1676721600@focmastercalendar.com
SUMMARY:JOG - Chris Davis
DESCRIPTION:Chris Davis is hosting a JOG -9 people \nFriday- 5 pm through Saturday 1:00 pm \nSt. Asaph for sessions. \nDinner in Bluebird at 5:30 (Pre-order) \nBreakfast (Pre-orders) in Bluebird at 7:30 am \nBox lunches on Saturday by Cerulean – deliver to Ballroom at 1:00 pm \nContact:  Chris Davis 417-234-4202
URL:https://focmastercalendar.com/event/jog-4/
LOCATION:St. Asaph Meeting Space\, 207 West Main Street\, Stanford\, KY\, 40484\, United States
CATEGORIES:Bluebird,Cerulean Dining Room,Lodging,St. Asaph Meeting Space
ORGANIZER;CN="Julie Cox":MAILTO:julie@wildernessroadguest.com
END:VEVENT
BEGIN:VEVENT
DTSTART;VALUE=DATE:20230215
DTEND;VALUE=DATE:20230217
DTSTAMP:20260419T155931
CREATED:20230118T205103Z
LAST-MODIFIED:20230127T205436Z
UID:2404-1676419200-1676591999@focmastercalendar.com
SUMMARY:Women's JOG- Jami Cervantes
DESCRIPTION:Ladies JOG for Family of Companies Women \nhosted by Jami Cervantes \nStarts at 3:00 pm on Wed –  Overnight and ends at Noon on Thurs.
URL:https://focmastercalendar.com/event/possible-jog-jami-cervantes/
LOCATION:St. Asaph Meeting Space\, 207 West Main Street\, Stanford\, KY\, 40484\, United States
CATEGORIES:Cerulean Dining Room,Lodging,St. Asaph Meeting Space
ORGANIZER;CN="Julie Cox":MAILTO:julie@wildernessroadguest.com
END:VEVENT
BEGIN:VEVENT
DTSTART;TZID=America/Kentucky/Monticello:20230214T183000
DTEND;TZID=America/Kentucky/Monticello:20230214T200000
DTSTAMP:20260419T155931
CREATED:20230112T191928Z
LAST-MODIFIED:20230112T191928Z
UID:2399-1676399400-1676404800@focmastercalendar.com
SUMMARY:Valentine's Day Dinner & Package
DESCRIPTION:Dinner in Cerulean \nDetails TBD
URL:https://focmastercalendar.com/event/valentines-day-dinner-package-2/
LOCATION:Cerulean\, 202 West Main Street\, Stanford\, KY\, 40484\, United States
CATEGORIES:Cerulean Dining Room,Cerulean Dining Room
ORGANIZER;CN="Julie Cox":MAILTO:julie@wildernessroadguest.com
END:VEVENT
END:VCALENDAR