BEGIN:VCALENDAR
VERSION:2.0
PRODID:-//Master Calendar - ECPv6.8.1//NONSGML v1.0//EN
CALSCALE:GREGORIAN
METHOD:PUBLISH
X-WR-CALNAME:Master Calendar
X-ORIGINAL-URL:https://focmastercalendar.com
X-WR-CALDESC:Events for Master Calendar
REFRESH-INTERVAL;VALUE=DURATION:PT1H
X-Robots-Tag:noindex
X-PUBLISHED-TTL:PT1H
BEGIN:VTIMEZONE
TZID:America/Kentucky/Monticello
BEGIN:DAYLIGHT
TZOFFSETFROM:-0500
TZOFFSETTO:-0400
TZNAME:EDT
DTSTART:20230312T070000
END:DAYLIGHT
BEGIN:STANDARD
TZOFFSETFROM:-0400
TZOFFSETTO:-0500
TZNAME:EST
DTSTART:20231105T060000
END:STANDARD
END:VTIMEZONE
BEGIN:VEVENT
DTSTART;TZID=America/Kentucky/Monticello:20231202T130000
DTEND;TZID=America/Kentucky/Monticello:20231202T190000
DTSTAMP:20260422T163007
CREATED:20230613T183943Z
LAST-MODIFIED:20231114T154210Z
UID:2634-1701522000-1701543600@focmastercalendar.com
SUMMARY:Community Christmas Kick-off & PARADE
DESCRIPTION:Fort Logan Open House 1-3 pm \nL&N Depot w/ Choo Choo Santa 1-3 pm \nLincoln Co High School Choir performing on sidewalks or in one of our spaces 4:30 \nGuitar & Cello playing in St. Asaph 4-6 pm \nMama D’s\, Bluebird and KYSS open for business \nParade – 6 pm
URL:https://focmastercalendar.com/event/community-christmas-kick-off-parade/
CATEGORIES:Community
ORGANIZER;CN="Julie Cox":MAILTO:julie@wildernessroadguest.com
END:VEVENT
END:VCALENDAR