BEGIN:VCALENDAR
VERSION:2.0
PRODID:-//Master Calendar - ECPv6.8.1//NONSGML v1.0//EN
CALSCALE:GREGORIAN
METHOD:PUBLISH
X-ORIGINAL-URL:https://focmastercalendar.com
X-WR-CALDESC:Events for Master Calendar
REFRESH-INTERVAL;VALUE=DURATION:PT1H
X-Robots-Tag:noindex
X-PUBLISHED-TTL:PT1H
BEGIN:VTIMEZONE
TZID:America/Kentucky/Monticello
BEGIN:DAYLIGHT
TZOFFSETFROM:-0500
TZOFFSETTO:-0400
TZNAME:EDT
DTSTART:20240310T070000
END:DAYLIGHT
BEGIN:STANDARD
TZOFFSETFROM:-0400
TZOFFSETTO:-0500
TZNAME:EST
DTSTART:20241103T060000
END:STANDARD
END:VTIMEZONE
BEGIN:VEVENT
DTSTART;VALUE=DATE:20241004
DTEND;VALUE=DATE:20241005
DTSTAMP:20260422T070801
CREATED:20240410T150251Z
LAST-MODIFIED:20240410T150251Z
UID:2984-1728000000-1728086399@focmastercalendar.com
SUMMARY:Bourbon Chase 2024
DESCRIPTION:details to come…putting this in calendar for scheduling purposes
URL:https://focmastercalendar.com/event/bourbon-chase-2024/
CATEGORIES:Community
ORGANIZER;CN="Julie Cox":MAILTO:julie@wildernessroadguest.com
END:VEVENT
BEGIN:VEVENT
DTSTART;TZID=America/Kentucky/Monticello:20241018T190000
DTEND;TZID=America/Kentucky/Monticello:20241018T203000
DTSTAMP:20260422T070801
CREATED:20231218T163406Z
LAST-MODIFIED:20231218T163555Z
UID:2864-1729278000-1729283400@focmastercalendar.com
SUMMARY:History - Mystery Tours
DESCRIPTION:History- Mystery Tours \n7pm- 8:30 pm from KYSS \nmore details to come
URL:https://focmastercalendar.com/event/history-mystery-tours/
LOCATION:St. Asaph Meeting Space\, 207 West Main Street\, Stanford\, KY\, 40484\, United States
CATEGORIES:Community
ORGANIZER;CN="Julie Cox":MAILTO:julie@wildernessroadguest.com
END:VEVENT
BEGIN:VEVENT
DTSTART;TZID=America/Kentucky/Monticello:20241019T190000
DTEND;TZID=America/Kentucky/Monticello:20241019T203000
DTSTAMP:20260422T070801
CREATED:20231218T163406Z
LAST-MODIFIED:20231218T163555Z
UID:2865-1729364400-1729369800@focmastercalendar.com
SUMMARY:History - Mystery Tours
DESCRIPTION:History- Mystery Tours \n7pm- 8:30 pm from KYSS \nmore details to come
URL:https://focmastercalendar.com/event/history-mystery-tours-2024-10-19/
LOCATION:St. Asaph Meeting Space\, 207 West Main Street\, Stanford\, KY\, 40484\, United States
CATEGORIES:Community
ORGANIZER;CN="Julie Cox":MAILTO:julie@wildernessroadguest.com
END:VEVENT
BEGIN:VEVENT
DTSTART;TZID=America/Kentucky/Monticello:20241025T190000
DTEND;TZID=America/Kentucky/Monticello:20241025T203000
DTSTAMP:20260422T070801
CREATED:20231218T163406Z
LAST-MODIFIED:20231218T163556Z
UID:2866-1729882800-1729888200@focmastercalendar.com
SUMMARY:History - Mystery Tours
DESCRIPTION:History- Mystery Tours \n7pm- 8:30 pm from KYSS \nmore details to come
URL:https://focmastercalendar.com/event/history-mystery-tours-2024-10-25/
LOCATION:St. Asaph Meeting Space\, 207 West Main Street\, Stanford\, KY\, 40484\, United States
CATEGORIES:Community
ORGANIZER;CN="Julie Cox":MAILTO:julie@wildernessroadguest.com
END:VEVENT
BEGIN:VEVENT
DTSTART;TZID=America/Kentucky/Monticello:20241026T190000
DTEND;TZID=America/Kentucky/Monticello:20241026T203000
DTSTAMP:20260422T070801
CREATED:20231218T163406Z
LAST-MODIFIED:20231218T163557Z
UID:2867-1729969200-1729974600@focmastercalendar.com
SUMMARY:History - Mystery Tours
DESCRIPTION:History- Mystery Tours \n7pm- 8:30 pm from KYSS \nmore details to come
URL:https://focmastercalendar.com/event/history-mystery-tours-2024-10-26/
LOCATION:St. Asaph Meeting Space\, 207 West Main Street\, Stanford\, KY\, 40484\, United States
CATEGORIES:Community
ORGANIZER;CN="Julie Cox":MAILTO:julie@wildernessroadguest.com
END:VEVENT
END:VCALENDAR