BEGIN:VCALENDAR
VERSION:2.0
PRODID:-//Master Calendar - ECPv6.8.1//NONSGML v1.0//EN
CALSCALE:GREGORIAN
METHOD:PUBLISH
X-ORIGINAL-URL:https://focmastercalendar.com
X-WR-CALDESC:Events for Master Calendar
REFRESH-INTERVAL;VALUE=DURATION:PT1H
X-Robots-Tag:noindex
X-PUBLISHED-TTL:PT1H
BEGIN:VTIMEZONE
TZID:America/Kentucky/Monticello
BEGIN:DAYLIGHT
TZOFFSETFROM:-0500
TZOFFSETTO:-0400
TZNAME:EDT
DTSTART:20230312T070000
END:DAYLIGHT
BEGIN:STANDARD
TZOFFSETFROM:-0400
TZOFFSETTO:-0500
TZNAME:EST
DTSTART:20231105T060000
END:STANDARD
END:VTIMEZONE
BEGIN:VEVENT
DTSTART;VALUE=DATE:20230502
DTEND;VALUE=DATE:20230511
DTSTAMP:20260425T115752
CREATED:20230501T185752Z
LAST-MODIFIED:20230501T185752Z
UID:2559-1682985600-1683763199@focmastercalendar.com
SUMMARY:Cerulean out
DESCRIPTION:refinishng tables in cerulean… \ncan serve food in another location
URL:https://focmastercalendar.com/event/cerulean-out/
LOCATION:Cerulean\, 202 West Main Street\, Stanford\, KY\, 40484\, United States
CATEGORIES:Cerulean Dining Room
ORGANIZER;CN="Julie Cox":MAILTO:julie@wildernessroadguest.com
END:VEVENT
BEGIN:VEVENT
DTSTART;VALUE=DATE:20230506
DTEND;VALUE=DATE:20230507
DTSTAMP:20260425T115752
CREATED:20230308T181718Z
LAST-MODIFIED:20230308T181718Z
UID:2506-1683331200-1683417599@focmastercalendar.com
SUMMARY:Lincoln County HS PROM
DESCRIPTION:
URL:https://focmastercalendar.com/event/lincoln-county-hs-prom/
LOCATION:KY
CATEGORIES:Community
ORGANIZER;CN="Julie Cox":MAILTO:julie@wildernessroadguest.com
END:VEVENT
BEGIN:VEVENT
DTSTART;TZID=America/Kentucky/Monticello:20230506T110000
DTEND;TZID=America/Kentucky/Monticello:20230506T130000
DTSTAMP:20260425T115752
CREATED:20230321T022033Z
LAST-MODIFIED:20230321T022033Z
UID:2520-1683370800-1683378000@focmastercalendar.com
SUMMARY:Derby Brunch
DESCRIPTION:In partnernship with William Whitley House Endowment \n11-1 Brunch \nBook Signing \n 
URL:https://focmastercalendar.com/event/derby-brunch/
LOCATION:The Ballroom\, 208 North Depot Street\, Stanford\, KY\, 40484\, United States
CATEGORIES:Ballroom,Cerulean Dining Room
END:VEVENT
END:VCALENDAR