BEGIN:VCALENDAR
VERSION:2.0
PRODID:-//Master Calendar - ECPv6.8.1//NONSGML v1.0//EN
CALSCALE:GREGORIAN
METHOD:PUBLISH
X-WR-CALNAME:Master Calendar
X-ORIGINAL-URL:https://focmastercalendar.com
X-WR-CALDESC:Events for Master Calendar
REFRESH-INTERVAL;VALUE=DURATION:PT1H
X-Robots-Tag:noindex
X-PUBLISHED-TTL:PT1H
BEGIN:VTIMEZONE
TZID:America/Kentucky/Monticello
BEGIN:DAYLIGHT
TZOFFSETFROM:-0500
TZOFFSETTO:-0400
TZNAME:EDT
DTSTART:20230312T070000
END:DAYLIGHT
BEGIN:STANDARD
TZOFFSETFROM:-0400
TZOFFSETTO:-0500
TZNAME:EST
DTSTART:20231105T060000
END:STANDARD
END:VTIMEZONE
BEGIN:VEVENT
DTSTART;TZID=America/Kentucky/Monticello:20230203T160000
DTEND;TZID=America/Kentucky/Monticello:20230203T210000
DTSTAMP:20260423T024809
CREATED:20230117T161749Z
LAST-MODIFIED:20230125T202206Z
UID:2401-1675440000-1675458000@focmastercalendar.com
SUMMARY:Ballroom Private Event
DESCRIPTION:Joe Tacket is hosting a 40th bday party for his wife\, Ashley \nHis mother in law is doing the food. \nThey will have about 40-60 people \n5:00- 9:00 pm \nJoe Tackett is contact – 606-669-1834
URL:https://focmastercalendar.com/event/ballroom-private-event/
LOCATION:The Ballroom\, 208 North Depot Street\, Stanford\, KY\, 40484\, United States
CATEGORIES:Ballroom
ORGANIZER;CN="Julie Cox":MAILTO:julie@wildernessroadguest.com
END:VEVENT
END:VCALENDAR