BEGIN:VCALENDAR
VERSION:2.0
PRODID:-//Master Calendar - ECPv6.8.1//NONSGML v1.0//EN
CALSCALE:GREGORIAN
METHOD:PUBLISH
X-WR-CALNAME:Master Calendar
X-ORIGINAL-URL:https://focmastercalendar.com
X-WR-CALDESC:Events for Master Calendar
REFRESH-INTERVAL;VALUE=DURATION:PT1H
X-Robots-Tag:noindex
X-PUBLISHED-TTL:PT1H
BEGIN:VTIMEZONE
TZID:America/Kentucky/Monticello
BEGIN:DAYLIGHT
TZOFFSETFROM:-0500
TZOFFSETTO:-0400
TZNAME:EDT
DTSTART:20230312T070000
END:DAYLIGHT
BEGIN:STANDARD
TZOFFSETFROM:-0400
TZOFFSETTO:-0500
TZNAME:EST
DTSTART:20231105T060000
END:STANDARD
END:VTIMEZONE
BEGIN:VEVENT
DTSTART;TZID=America/Kentucky/Monticello:20230131T100000
DTEND;TZID=America/Kentucky/Monticello:20230131T150000
DTSTAMP:20260422T115254
CREATED:20221214T182503Z
LAST-MODIFIED:20230123T220435Z
UID:2348-1675159200-1675177200@focmastercalendar.com
SUMMARY:Lender Relationship Development Kickoff Meeting
DESCRIPTION:Ballroom from 10-3 pm  –  Coffee and Water in ballroom \nLunch for 30 – Buffet Style\, Taco Bar\, Salad type situation. \nLunch at Noon in Cerulean
URL:https://focmastercalendar.com/event/lender-relationship-development-kickoff-meeting/
LOCATION:The Ballroom\, 208 North Depot Street\, Stanford\, KY\, 40484\, United States
CATEGORIES:Ballroom,Cerulean Dining Room
ORGANIZER;CN="Julie Cox":MAILTO:julie@wildernessroadguest.com
END:VEVENT
END:VCALENDAR