BEGIN:VCALENDAR
VERSION:2.0
PRODID:-//Master Calendar - ECPv6.8.1//NONSGML v1.0//EN
CALSCALE:GREGORIAN
METHOD:PUBLISH
X-WR-CALNAME:Master Calendar
X-ORIGINAL-URL:https://focmastercalendar.com
X-WR-CALDESC:Events for Master Calendar
REFRESH-INTERVAL;VALUE=DURATION:PT1H
X-Robots-Tag:noindex
X-PUBLISHED-TTL:PT1H
BEGIN:VTIMEZONE
TZID:America/Kentucky/Monticello
BEGIN:DAYLIGHT
TZOFFSETFROM:-0500
TZOFFSETTO:-0400
TZNAME:EDT
DTSTART:20230312T070000
END:DAYLIGHT
BEGIN:STANDARD
TZOFFSETFROM:-0400
TZOFFSETTO:-0500
TZNAME:EST
DTSTART:20231105T060000
END:STANDARD
END:VTIMEZONE
BEGIN:VEVENT
DTSTART;TZID=America/Kentucky/Monticello:20230130T120000
DTEND;TZID=America/Kentucky/Monticello:20230130T140000
DTSTAMP:20260424T122528
CREATED:20221211T203631Z
LAST-MODIFIED:20230123T220331Z
UID:2339-1675080000-1675087200@focmastercalendar.com
SUMMARY:Founding Principles Kick-off LUNCH
DESCRIPTION:Lunch in Cerulean –  22 people \nMenu: soup\, ceasar salad w/beef & chicken\, drinks & dessert \nMeeting until 2:00 in Cerulean space \n  \nKara Bastin – contact
URL:https://focmastercalendar.com/event/founding-principles-kick-off-lunch-2/
LOCATION:Cerulean\, 202 West Main Street\, Stanford\, KY\, 40484\, United States
CATEGORIES:Cerulean Dining Room,Cerulean Dining Room
ORGANIZER;CN="Julie Cox":MAILTO:julie@wildernessroadguest.com
END:VEVENT
BEGIN:VEVENT
DTSTART;TZID=America/Kentucky/Monticello:20230130T120000
DTEND;TZID=America/Kentucky/Monticello:20230130T170000
DTSTAMP:20260424T122528
CREATED:20230124T143025Z
LAST-MODIFIED:20230124T143025Z
UID:2413-1675080000-1675098000@focmastercalendar.com
SUMMARY:Image Quest
DESCRIPTION:
URL:https://focmastercalendar.com/event/image-quest/
LOCATION:KY
CATEGORIES:St. Asaph Meeting Space
ORGANIZER;CN="Julie Cox":MAILTO:julie@wildernessroadguest.com
END:VEVENT
BEGIN:VEVENT
DTSTART;TZID=America/Kentucky/Monticello:20230130T180000
DTEND;TZID=America/Kentucky/Monticello:20230130T200000
DTSTAMP:20260424T122528
CREATED:20230111T151625Z
LAST-MODIFIED:20230123T220653Z
UID:2394-1675101600-1675108800@focmastercalendar.com
SUMMARY:Centre College Basketball Team Meal
DESCRIPTION:Hosted by Grace Church \nCentre Men’s & Women’s Basketball team dinner \n6:00- Ballroom –  50 people \nFood provided by BLUEBIRD-  smokehouse pasta with chicken\, salad\, bread.  gouda dip and chips on tables dessert \nContact: Steve Asmus – 859-324-6715
URL:https://focmastercalendar.com/event/centre-college-basketball-team-meal/
LOCATION:The Ballroom\, 208 North Depot Street\, Stanford\, KY\, 40484\, United States
CATEGORIES:Ballroom,Bluebird
ORGANIZER;CN="Julie Cox":MAILTO:julie@wildernessroadguest.com
END:VEVENT
END:VCALENDAR