BEGIN:VCALENDAR
VERSION:2.0
PRODID:-//Master Calendar - ECPv6.8.1//NONSGML v1.0//EN
CALSCALE:GREGORIAN
METHOD:PUBLISH
X-WR-CALNAME:Master Calendar
X-ORIGINAL-URL:https://focmastercalendar.com
X-WR-CALDESC:Events for Master Calendar
REFRESH-INTERVAL;VALUE=DURATION:PT1H
X-Robots-Tag:noindex
X-PUBLISHED-TTL:PT1H
BEGIN:VTIMEZONE
TZID:America/Kentucky/Monticello
BEGIN:DAYLIGHT
TZOFFSETFROM:-0500
TZOFFSETTO:-0400
TZNAME:EDT
DTSTART:20220313T070000
END:DAYLIGHT
BEGIN:STANDARD
TZOFFSETFROM:-0400
TZOFFSETTO:-0500
TZNAME:EST
DTSTART:20221106T060000
END:STANDARD
END:VTIMEZONE
BEGIN:VEVENT
DTSTART;VALUE=DATE:20221228
DTEND;VALUE=DATE:20221229
DTSTAMP:20260420T004221
CREATED:20221213T190344Z
LAST-MODIFIED:20221213T190344Z
UID:2346-1672185600-1672271999@focmastercalendar.com
SUMMARY:keeneland tours group - lunch in bluebird
DESCRIPTION:Jane Vanhook is hosting a group from Keeneland Tour Groups – bringing them to lunch at bluebird then showing them around Stanford. \nMay want to meet their group leader for future tour . \n  \nJane will touch base with numbers when she knows.
URL:https://focmastercalendar.com/event/keeneland-tours-group-lunch-in-bluebird/
LOCATION:Bluebird\, 202 West Main Street\, Stanford\, KY\, 40484\, United States
CATEGORIES:Bluebird
ORGANIZER;CN="Julie Cox":MAILTO:julie@wildernessroadguest.com
END:VEVENT
END:VCALENDAR