BEGIN:VCALENDAR
VERSION:2.0
PRODID:-//Master Calendar - ECPv6.8.1//NONSGML v1.0//EN
CALSCALE:GREGORIAN
METHOD:PUBLISH
X-ORIGINAL-URL:https://focmastercalendar.com
X-WR-CALDESC:Events for Master Calendar
REFRESH-INTERVAL;VALUE=DURATION:PT1H
X-Robots-Tag:noindex
X-PUBLISHED-TTL:PT1H
BEGIN:VTIMEZONE
TZID:America/Kentucky/Monticello
BEGIN:DAYLIGHT
TZOFFSETFROM:-0500
TZOFFSETTO:-0400
TZNAME:EDT
DTSTART:20220313T070000
END:DAYLIGHT
BEGIN:STANDARD
TZOFFSETFROM:-0400
TZOFFSETTO:-0500
TZNAME:EST
DTSTART:20221106T060000
END:STANDARD
TZID:America/New_York
BEGIN:DAYLIGHT
TZOFFSETFROM:-0500
TZOFFSETTO:-0400
TZNAME:EDT
DTSTART:20220313T070000
END:DAYLIGHT
BEGIN:STANDARD
TZOFFSETFROM:-0400
TZOFFSETTO:-0500
TZNAME:EST
DTSTART:20221106T060000
END:STANDARD
END:VTIMEZONE
BEGIN:VEVENT
DTSTART;VALUE=DATE:20221029
DTEND;VALUE=DATE:20221030
DTSTAMP:20260423T055646
CREATED:20220810T223309Z
LAST-MODIFIED:20220810T223340Z
UID:2174-1667001600-1667087999@focmastercalendar.com
SUMMARY:Wedding Event at Englewood Estates
DESCRIPTION:Cerulean private catering event – off-site \n  \nSarah Jenkins – Cerulean FOH Manager is point of contact
URL:https://focmastercalendar.com/event/wedding-event-at-englewood-estates/
LOCATION:KY
CATEGORIES:Cerulean Dining Room
ORGANIZER;CN="Julie Cox":MAILTO:julie@wildernessroadguest.com
END:VEVENT
BEGIN:VEVENT
DTSTART;TZID=America/New_York:20221029T100000
DTEND;TZID=America/New_York:20221029T140000
DTSTAMP:20260423T055646
CREATED:20220526T135842Z
LAST-MODIFIED:20220810T222811Z
UID:1656-1667037600-1667052000@focmastercalendar.com
SUMMARY:FSNB Family Hiking Day
DESCRIPTION:Durham Hollow Farm – family day of hiking\, games\, food\, raffles \n  \nLeah Baker – contact
URL:https://focmastercalendar.com/event/fsnb-family-hiking-day/
LOCATION:KY
ORGANIZER;CN="Julie Cox":MAILTO:julie@wildernessroadguest.com
END:VEVENT
END:VCALENDAR