BEGIN:VCALENDAR
VERSION:2.0
PRODID:-//Master Calendar - ECPv6.8.1//NONSGML v1.0//EN
CALSCALE:GREGORIAN
METHOD:PUBLISH
X-ORIGINAL-URL:https://focmastercalendar.com
X-WR-CALDESC:Events for Master Calendar
REFRESH-INTERVAL;VALUE=DURATION:PT1H
X-Robots-Tag:noindex
X-PUBLISHED-TTL:PT1H
BEGIN:VTIMEZONE
TZID:America/Kentucky/Monticello
BEGIN:DAYLIGHT
TZOFFSETFROM:-0500
TZOFFSETTO:-0400
TZNAME:EDT
DTSTART:20220313T070000
END:DAYLIGHT
BEGIN:STANDARD
TZOFFSETFROM:-0400
TZOFFSETTO:-0500
TZNAME:EST
DTSTART:20221106T060000
END:STANDARD
END:VTIMEZONE
BEGIN:VEVENT
DTSTART;TZID=America/Kentucky/Monticello:20220822T090000
DTEND;TZID=America/Kentucky/Monticello:20220822T110000
DTSTAMP:20260423T055536
CREATED:20220809T184823Z
LAST-MODIFIED:20220809T184823Z
UID:2156-1661158800-1661166000@focmastercalendar.com
SUMMARY:Esther's Breakfast Meeting
DESCRIPTION:Esther’s team\, Suzanne\, Denise\, Julie and the Millers – I think that’s everyone
URL:https://focmastercalendar.com/event/esthers-breakfast-meeting/
LOCATION:St. Asaph Meeting Space\, 207 West Main Street\, Stanford\, KY\, 40484\, United States
CATEGORIES:St. Asaph Meeting Space
END:VEVENT
END:VCALENDAR