BEGIN:VCALENDAR
VERSION:2.0
PRODID:-//Master Calendar - ECPv6.8.1//NONSGML v1.0//EN
CALSCALE:GREGORIAN
METHOD:PUBLISH
X-WR-CALNAME:Master Calendar
X-ORIGINAL-URL:https://focmastercalendar.com
X-WR-CALDESC:Events for Master Calendar
REFRESH-INTERVAL;VALUE=DURATION:PT1H
X-Robots-Tag:noindex
X-PUBLISHED-TTL:PT1H
BEGIN:VTIMEZONE
TZID:America/Kentucky/Louisville
BEGIN:DAYLIGHT
TZOFFSETFROM:-0500
TZOFFSETTO:-0400
TZNAME:EDT
DTSTART:20220313T070000
END:DAYLIGHT
BEGIN:STANDARD
TZOFFSETFROM:-0400
TZOFFSETTO:-0500
TZNAME:EST
DTSTART:20221106T060000
END:STANDARD
TZID:America/Kentucky/Monticello
BEGIN:DAYLIGHT
TZOFFSETFROM:-0500
TZOFFSETTO:-0400
TZNAME:EDT
DTSTART:20220313T070000
END:DAYLIGHT
BEGIN:STANDARD
TZOFFSETFROM:-0400
TZOFFSETTO:-0500
TZNAME:EST
DTSTART:20221106T060000
END:STANDARD
END:VTIMEZONE
BEGIN:VEVENT
DTSTART;VALUE=DATE:20220814
DTEND;VALUE=DATE:20220821
DTSTAMP:20260422T051003
CREATED:20220525T210631Z
LAST-MODIFIED:20220708T000945Z
UID:1609-1660435200-1661039999@focmastercalendar.com
SUMMARY:Good Lit - Wedgewood Circle
DESCRIPTION:GoodLit\, supports up-and-coming\, faith-driven writers with mentorship\, resources\, and creative writing retreats to help them flourish as future published authors in the mainstream media. \n15 writers \nRetreat       Schedule for GoodLit 2022 \nTerrence Berry is contact for the group \n  \nhttp://www.wedgwoodcircle.com/goodlit
URL:https://focmastercalendar.com/event/good-lit/
LOCATION:KY
CATEGORIES:Ballroom,Cerulean Dining Room,Lodging,St. Asaph Meeting Space,Terrace
ORGANIZER;CN="Julie Cox":MAILTO:julie@wildernessroadguest.com
END:VEVENT
BEGIN:VEVENT
DTSTART;TZID=America/Kentucky/Monticello:20220815T080000
DTEND;TZID=America/Kentucky/Monticello:20220815T090000
DTSTAMP:20260422T051003
CREATED:20220708T001515Z
LAST-MODIFIED:20220708T001515Z
UID:2050-1660550400-1660554000@focmastercalendar.com
SUMMARY:GoodLit Breakfast
DESCRIPTION:Breakfast 8-9 am \nCerulean \n 
URL:https://focmastercalendar.com/event/goodlit-breakfast/
LOCATION:Cerulean\, 202 West Main Street\, Stanford\, KY\, 40484\, United States
CATEGORIES:Cerulean Dining Room,Cerulean Dining Room
ORGANIZER;CN="Julie Cox":MAILTO:julie@wildernessroadguest.com
END:VEVENT
BEGIN:VEVENT
DTSTART;TZID=America/Kentucky/Monticello:20220815T090000
DTEND;TZID=America/Kentucky/Monticello:20220815T123000
DTSTAMP:20260422T051003
CREATED:20220708T002119Z
LAST-MODIFIED:20220708T002119Z
UID:2054-1660554000-1660566600@focmastercalendar.com
SUMMARY:Good Lit Morning Session
DESCRIPTION:Morning Session \nBallroom \nSchedule for GoodLit 2022
URL:https://focmastercalendar.com/event/good-lit-morning-session/
LOCATION:The Ballroom\, 208 North Depot Street\, Stanford\, KY\, 40484\, United States
CATEGORIES:Ballroom
ORGANIZER;CN="Julie Cox":MAILTO:julie@wildernessroadguest.com
END:VEVENT
BEGIN:VEVENT
DTSTART;TZID=America/Kentucky/Monticello:20220815T123000
DTEND;TZID=America/Kentucky/Monticello:20220815T140000
DTSTAMP:20260422T051003
CREATED:20220708T002307Z
LAST-MODIFIED:20220708T002307Z
UID:2056-1660566600-1660572000@focmastercalendar.com
SUMMARY:Good Lit Lunch
DESCRIPTION:Lunch in Cerulean \n12:30-2:00
URL:https://focmastercalendar.com/event/good-lit-lunch/
LOCATION:Cerulean\, 202 West Main Street\, Stanford\, KY\, 40484\, United States
CATEGORIES:Cerulean Dining Room,Cerulean Dining Room
ORGANIZER;CN="Julie Cox":MAILTO:julie@wildernessroadguest.com
END:VEVENT
BEGIN:VEVENT
DTSTART;TZID=America/Kentucky/Monticello:20220815T140000
DTEND;TZID=America/Kentucky/Monticello:20220815T160000
DTSTAMP:20260422T051003
CREATED:20220708T002455Z
LAST-MODIFIED:20220803T155156Z
UID:2058-1660572000-1660579200@focmastercalendar.com
SUMMARY:Good Lit Afternoon Session
DESCRIPTION:Afternoon Session \n2-6:30pm
URL:https://focmastercalendar.com/event/good-lit-afternoon-session/
LOCATION:The Ballroom\, 208 North Depot Street\, Stanford\, KY\, 40484\, United States
CATEGORIES:Ballroom
ORGANIZER;CN="Julie Cox":MAILTO:julie@wildernessroadguest.com
END:VEVENT
BEGIN:VEVENT
DTSTART;TZID=America/Kentucky/Monticello:20220815T183000
DTEND;TZID=America/Kentucky/Monticello:20220815T200000
DTSTAMP:20260422T051003
CREATED:20220708T005358Z
LAST-MODIFIED:20220708T010239Z
UID:2072-1660588200-1660593600@focmastercalendar.com
SUMMARY:GoodLit Dinner
DESCRIPTION:Dinner in Cerulean \n6:30pm-8:00pm
URL:https://focmastercalendar.com/event/goodlit-dinner/
LOCATION:Cerulean\, 202 West Main Street\, Stanford\, KY\, 40484\, United States
CATEGORIES:Cerulean Dining Room,Cerulean Dining Room
ORGANIZER;CN="Julie Cox":MAILTO:julie@wildernessroadguest.com
END:VEVENT
END:VCALENDAR